BEGIN:VCALENDAR
VERSION:2.0
PRODID:-//Downtown Columbus - ECPv6.15.20//NONSGML v1.0//EN
CALSCALE:GREGORIAN
METHOD:PUBLISH
X-ORIGINAL-URL:https://downtowncolumbus.com
X-WR-CALDESC:Events for Downtown Columbus
REFRESH-INTERVAL;VALUE=DURATION:PT1H
X-Robots-Tag:noindex
X-PUBLISHED-TTL:PT1H
BEGIN:VTIMEZONE
TZID:America/New_York
BEGIN:DAYLIGHT
TZOFFSETFROM:-0500
TZOFFSETTO:-0400
TZNAME:EDT
DTSTART:20250309T070000
END:DAYLIGHT
BEGIN:STANDARD
TZOFFSETFROM:-0400
TZOFFSETTO:-0500
TZNAME:EST
DTSTART:20251102T060000
END:STANDARD
BEGIN:DAYLIGHT
TZOFFSETFROM:-0500
TZOFFSETTO:-0400
TZNAME:EDT
DTSTART:20260308T070000
END:DAYLIGHT
BEGIN:STANDARD
TZOFFSETFROM:-0400
TZOFFSETTO:-0500
TZNAME:EST
DTSTART:20261101T060000
END:STANDARD
BEGIN:DAYLIGHT
TZOFFSETFROM:-0500
TZOFFSETTO:-0400
TZNAME:EDT
DTSTART:20270314T070000
END:DAYLIGHT
BEGIN:STANDARD
TZOFFSETFROM:-0400
TZOFFSETTO:-0500
TZNAME:EST
DTSTART:20271107T060000
END:STANDARD
END:VTIMEZONE
BEGIN:VEVENT
DTSTART;TZID=America/New_York:20260702T181500
DTEND;TZID=America/New_York:20260702T200000
DTSTAMP:20260419T113551
CREATED:20260319T130858Z
LAST-MODIFIED:20260319T130858Z
UID:10013399-1783016100-1783022400@downtowncolumbus.com
SUMMARY:Free Downtown Fitness: McFerson Commons
DESCRIPTION:Thursdays in July\, 6:15 p.m. and 7:15 p.m.: More info to come! \nSign up for class updates here. 
URL:https://downtowncolumbus.com/event/free-downtown-fitness-mcferson-commons/2026-07-02/
LOCATION:McFerson Commons\, 218 West St\, Columbus\, OH\, United States
CATEGORIES:Parks,Sports
ATTACH;FMTTYPE=image/jpeg:https://downtowncolumbus.com/wp-content/uploads/2023/08/Robb-McCormick-Photography-29-of-97-min-1.jpg
GEO:39.9668486;-83.0073684
X-APPLE-STRUCTURED-LOCATION;VALUE=URI;X-ADDRESS=McFerson Commons 218 West St Columbus OH United States;X-APPLE-RADIUS=500;X-TITLE=218 West St:geo:-83.0073684,39.9668486
END:VEVENT
BEGIN:VEVENT
DTSTART;TZID=America/New_York:20260709T181500
DTEND;TZID=America/New_York:20260709T200000
DTSTAMP:20260419T113551
CREATED:20260319T130858Z
LAST-MODIFIED:20260319T130858Z
UID:10013400-1783620900-1783627200@downtowncolumbus.com
SUMMARY:Free Downtown Fitness: McFerson Commons
DESCRIPTION:Thursdays in July\, 6:15 p.m. and 7:15 p.m.: More info to come! \nSign up for class updates here. 
URL:https://downtowncolumbus.com/event/free-downtown-fitness-mcferson-commons/2026-07-09/
LOCATION:McFerson Commons\, 218 West St\, Columbus\, OH\, United States
CATEGORIES:Parks,Sports
ATTACH;FMTTYPE=image/jpeg:https://downtowncolumbus.com/wp-content/uploads/2023/08/Robb-McCormick-Photography-29-of-97-min-1.jpg
GEO:39.9668486;-83.0073684
X-APPLE-STRUCTURED-LOCATION;VALUE=URI;X-ADDRESS=McFerson Commons 218 West St Columbus OH United States;X-APPLE-RADIUS=500;X-TITLE=218 West St:geo:-83.0073684,39.9668486
END:VEVENT
BEGIN:VEVENT
DTSTART;TZID=America/New_York:20260716T181500
DTEND;TZID=America/New_York:20260716T200000
DTSTAMP:20260419T113551
CREATED:20260319T130858Z
LAST-MODIFIED:20260319T130858Z
UID:10013401-1784225700-1784232000@downtowncolumbus.com
SUMMARY:Free Downtown Fitness: McFerson Commons
DESCRIPTION:Thursdays in July\, 6:15 p.m. and 7:15 p.m.: More info to come! \nSign up for class updates here. 
URL:https://downtowncolumbus.com/event/free-downtown-fitness-mcferson-commons/2026-07-16/
LOCATION:McFerson Commons\, 218 West St\, Columbus\, OH\, United States
CATEGORIES:Parks,Sports
ATTACH;FMTTYPE=image/jpeg:https://downtowncolumbus.com/wp-content/uploads/2023/08/Robb-McCormick-Photography-29-of-97-min-1.jpg
GEO:39.9668486;-83.0073684
X-APPLE-STRUCTURED-LOCATION;VALUE=URI;X-ADDRESS=McFerson Commons 218 West St Columbus OH United States;X-APPLE-RADIUS=500;X-TITLE=218 West St:geo:-83.0073684,39.9668486
END:VEVENT
BEGIN:VEVENT
DTSTART;TZID=America/New_York:20260723T181500
DTEND;TZID=America/New_York:20260723T200000
DTSTAMP:20260419T113551
CREATED:20260319T130858Z
LAST-MODIFIED:20260319T130858Z
UID:10013402-1784830500-1784836800@downtowncolumbus.com
SUMMARY:Free Downtown Fitness: McFerson Commons
DESCRIPTION:Thursdays in July\, 6:15 p.m. and 7:15 p.m.: More info to come! \nSign up for class updates here. 
URL:https://downtowncolumbus.com/event/free-downtown-fitness-mcferson-commons/2026-07-23/
LOCATION:McFerson Commons\, 218 West St\, Columbus\, OH\, United States
CATEGORIES:Parks,Sports
ATTACH;FMTTYPE=image/jpeg:https://downtowncolumbus.com/wp-content/uploads/2023/08/Robb-McCormick-Photography-29-of-97-min-1.jpg
GEO:39.9668486;-83.0073684
X-APPLE-STRUCTURED-LOCATION;VALUE=URI;X-ADDRESS=McFerson Commons 218 West St Columbus OH United States;X-APPLE-RADIUS=500;X-TITLE=218 West St:geo:-83.0073684,39.9668486
END:VEVENT
BEGIN:VEVENT
DTSTART;TZID=America/New_York:20260730T181500
DTEND;TZID=America/New_York:20260730T200000
DTSTAMP:20260419T113551
CREATED:20260319T130858Z
LAST-MODIFIED:20260319T130858Z
UID:10013403-1785435300-1785441600@downtowncolumbus.com
SUMMARY:Free Downtown Fitness: McFerson Commons
DESCRIPTION:Thursdays in July\, 6:15 p.m. and 7:15 p.m.: More info to come! \nSign up for class updates here. 
URL:https://downtowncolumbus.com/event/free-downtown-fitness-mcferson-commons/2026-07-30/
LOCATION:McFerson Commons\, 218 West St\, Columbus\, OH\, United States
CATEGORIES:Parks,Sports
ATTACH;FMTTYPE=image/jpeg:https://downtowncolumbus.com/wp-content/uploads/2023/08/Robb-McCormick-Photography-29-of-97-min-1.jpg
GEO:39.9668486;-83.0073684
X-APPLE-STRUCTURED-LOCATION;VALUE=URI;X-ADDRESS=McFerson Commons 218 West St Columbus OH United States;X-APPLE-RADIUS=500;X-TITLE=218 West St:geo:-83.0073684,39.9668486
END:VEVENT
END:VCALENDAR