BEGIN:VCALENDAR
VERSION:2.0
PRODID:-//Downtown Columbus - ECPv6.15.20//NONSGML v1.0//EN
CALSCALE:GREGORIAN
METHOD:PUBLISH
X-ORIGINAL-URL:https://downtowncolumbus.com
X-WR-CALDESC:Events for Downtown Columbus
REFRESH-INTERVAL;VALUE=DURATION:PT1H
X-Robots-Tag:noindex
X-PUBLISHED-TTL:PT1H
BEGIN:VTIMEZONE
TZID:America/New_York
BEGIN:DAYLIGHT
TZOFFSETFROM:-0500
TZOFFSETTO:-0400
TZNAME:EDT
DTSTART:20230312T070000
END:DAYLIGHT
BEGIN:STANDARD
TZOFFSETFROM:-0400
TZOFFSETTO:-0500
TZNAME:EST
DTSTART:20231105T060000
END:STANDARD
BEGIN:DAYLIGHT
TZOFFSETFROM:-0500
TZOFFSETTO:-0400
TZNAME:EDT
DTSTART:20240310T070000
END:DAYLIGHT
BEGIN:STANDARD
TZOFFSETFROM:-0400
TZOFFSETTO:-0500
TZNAME:EST
DTSTART:20241103T060000
END:STANDARD
BEGIN:DAYLIGHT
TZOFFSETFROM:-0500
TZOFFSETTO:-0400
TZNAME:EDT
DTSTART:20250309T070000
END:DAYLIGHT
BEGIN:STANDARD
TZOFFSETFROM:-0400
TZOFFSETTO:-0500
TZNAME:EST
DTSTART:20251102T060000
END:STANDARD
BEGIN:DAYLIGHT
TZOFFSETFROM:-0500
TZOFFSETTO:-0400
TZNAME:EDT
DTSTART:20260308T070000
END:DAYLIGHT
BEGIN:STANDARD
TZOFFSETFROM:-0400
TZOFFSETTO:-0500
TZNAME:EST
DTSTART:20261101T060000
END:STANDARD
END:VTIMEZONE
BEGIN:VEVENT
DTSTART;TZID=America/New_York:20250905T220000
DTEND;TZID=America/New_York:20250905T233000
DTSTAMP:20260419T132351
CREATED:20250825T131119Z
LAST-MODIFIED:20250825T131119Z
UID:10007641-1757109600-1757115000@downtowncolumbus.com
SUMMARY:Chicago Showcase
DESCRIPTION:Chicago invades Columbus\, featuring five hilarious stand up comedians plus the one-of-a-kind host — Chad the Bird!
URL:https://downtowncolumbus.com/event/chicago-showcase/
LOCATION:MadLab\, 227 N 3rd St\, Columbus\, OH\, 43215\, United States
CATEGORIES:Arts & Culture,Entertainment
ATTACH;FMTTYPE=image/jpeg:https://downtowncolumbus.com/wp-content/uploads/2025/08/chicago.jpg
GEO:39.9673301;-82.9990676
X-APPLE-STRUCTURED-LOCATION;VALUE=URI;X-ADDRESS=MadLab 227 N 3rd St Columbus OH 43215 United States;X-APPLE-RADIUS=500;X-TITLE=227 N 3rd St:geo:-82.9990676,39.9673301
END:VEVENT
BEGIN:VEVENT
DTSTART;TZID=America/New_York:20250905T200000
DTEND;TZID=America/New_York:20250905T213000
DTSTAMP:20260419T132351
CREATED:20250826T152756Z
LAST-MODIFIED:20250826T152756Z
UID:10007647-1757102400-1757107800@downtowncolumbus.com
SUMMARY:Chad the Bird at MadLab
DESCRIPTION:Join the Columbus Comedy Festival and Chad the Bird in a night of fun. Chad the Bird is a comedic essayist and deep divist who has been reporting on the news\, science\, and human-isms every week for the past 15 years. He’s also just a bird in your world\, loving what you humans do but he does have some notes. \n  \nGet tickets
URL:https://downtowncolumbus.com/event/chad-the-bird-at-madlab/
LOCATION:MadLab\, 227 N 3rd St\, Columbus\, OH\, 43215\, United States
CATEGORIES:Entertainment
ATTACH;FMTTYPE=image/jpeg:https://downtowncolumbus.com/wp-content/uploads/2025/08/chad-the-bird-1.jpg
GEO:39.9673301;-82.9990676
X-APPLE-STRUCTURED-LOCATION;VALUE=URI;X-ADDRESS=MadLab 227 N 3rd St Columbus OH 43215 United States;X-APPLE-RADIUS=500;X-TITLE=227 N 3rd St:geo:-82.9990676,39.9673301
END:VEVENT
BEGIN:VEVENT
DTSTART;TZID=America/New_York:20250905T200000
DTEND;TZID=America/New_York:20250905T213000
DTSTAMP:20260419T132351
CREATED:20250825T131132Z
LAST-MODIFIED:20250825T131132Z
UID:10007640-1757102400-1757107800@downtowncolumbus.com
SUMMARY:Chad the Bird
DESCRIPTION:Chad the Bird is a comedic essayist and deep divist who has been reporting on the news\, science\, and human-isms every week for the past 15 years. He’s also just a bird in your world\, loving what you humans do but he does have some notes.
URL:https://downtowncolumbus.com/event/chad-the-bird/
LOCATION:MadLab\, 227 N 3rd St\, Columbus\, OH\, 43215\, United States
CATEGORIES:Arts & Culture,Entertainment
ATTACH;FMTTYPE=image/jpeg:https://downtowncolumbus.com/wp-content/uploads/2025/08/chad-the-bird.jpg
GEO:39.9673301;-82.9990676
X-APPLE-STRUCTURED-LOCATION;VALUE=URI;X-ADDRESS=MadLab 227 N 3rd St Columbus OH 43215 United States;X-APPLE-RADIUS=500;X-TITLE=227 N 3rd St:geo:-82.9990676,39.9673301
END:VEVENT
BEGIN:VEVENT
DTSTART;TZID=America/New_York:20250905T180000
DTEND;TZID=America/New_York:20250905T193000
DTSTAMP:20260419T132351
CREATED:20250826T152039Z
LAST-MODIFIED:20250826T152039Z
UID:10007646-1757095200-1757100600@downtowncolumbus.com
SUMMARY:Gwen Rose at MadLab
DESCRIPTION:Join the Columbus Comedy Festival and Gwen Rose in a night of fun. Gwen Rose was named by Time Out in association with Hulu as a comedian to watch in 2025. She is a mainstay in the Chicago scene\, she has headlined her home club the Laugh Factory where she is a regular. She plays all the major clubs like the Den Theatre where she has opened for Julio Torres\, Bobcat Goldthwait and River Butcher. She just recorded her first special “Gwen Rose’s Emotional Cutting” also at the Den Theatre.  \n  \nGet tickets
URL:https://downtowncolumbus.com/event/gwen-rose-at-madlab/
LOCATION:MadLab\, 227 N 3rd St\, Columbus\, OH\, 43215\, United States
CATEGORIES:Entertainment
ATTACH;FMTTYPE=image/jpeg:https://downtowncolumbus.com/wp-content/uploads/2025/08/gwen-rose-2-1.jpg
GEO:39.9673301;-82.9990676
X-APPLE-STRUCTURED-LOCATION;VALUE=URI;X-ADDRESS=MadLab 227 N 3rd St Columbus OH 43215 United States;X-APPLE-RADIUS=500;X-TITLE=227 N 3rd St:geo:-82.9990676,39.9673301
END:VEVENT
BEGIN:VEVENT
DTSTART;TZID=America/New_York:20250905T180000
DTEND;TZID=America/New_York:20250905T193000
DTSTAMP:20260419T132351
CREATED:20250825T131137Z
LAST-MODIFIED:20250825T131137Z
UID:10007639-1757095200-1757100600@downtowncolumbus.com
SUMMARY:Gwen Rose
DESCRIPTION:Gwen Rose was named by Time Out in association with Hulu as a comedian to watch in 2025. She is a mainstay in the Chicago scene\, she has headlined her home club the Laugh Factory where she is a regular. She plays all the major clubs like the Den Theatre where she has opened for Julio Torres\, Bobcat Goldthwait and River Butcher. She just recorded her first special “Gwen Rose’s Emotional Cutting” also at the Den Theatre.
URL:https://downtowncolumbus.com/event/gwen-rose/
LOCATION:MadLab\, 227 N 3rd St\, Columbus\, OH\, 43215\, United States
CATEGORIES:Arts & Culture,Entertainment
ATTACH;FMTTYPE=image/jpeg:https://downtowncolumbus.com/wp-content/uploads/2025/08/gwen-rose-2.jpg
GEO:39.9673301;-82.9990676
X-APPLE-STRUCTURED-LOCATION;VALUE=URI;X-ADDRESS=MadLab 227 N 3rd St Columbus OH 43215 United States;X-APPLE-RADIUS=500;X-TITLE=227 N 3rd St:geo:-82.9990676,39.9673301
END:VEVENT
BEGIN:VEVENT
DTSTART;TZID=America/New_York:20250904T200000
DTEND;TZID=America/New_York:20250904T213000
DTSTAMP:20260419T132351
CREATED:20250822T183302Z
LAST-MODIFIED:20250822T183302Z
UID:10007638-1757016000-1757021400@downtowncolumbus.com
SUMMARY:Drunk PowerPoint
DESCRIPTION:Drunk PowerPoint is an open-mic style slideshow event that’s often informative but always odd. \nIt’s hosted live regularly at Kafe Kerouac and Leisure Club\, but the Columbus Comedy Festival edition features a highlight reel of top tier presenters from the monthly shows! See the best\, most hilarious\, and strangest slideshow presentations we have to offer!
URL:https://downtowncolumbus.com/event/drunk-powerpoint/
LOCATION:MadLab\, 227 N 3rd St\, Columbus\, OH\, 43215\, United States
ATTACH;FMTTYPE=image/jpeg:https://downtowncolumbus.com/wp-content/uploads/2025/08/drunk-powerpoint.jpg
GEO:39.9673301;-82.9990676
X-APPLE-STRUCTURED-LOCATION;VALUE=URI;X-ADDRESS=MadLab 227 N 3rd St Columbus OH 43215 United States;X-APPLE-RADIUS=500;X-TITLE=227 N 3rd St:geo:-82.9990676,39.9673301
END:VEVENT
BEGIN:VEVENT
DTSTART;TZID=America/New_York:20241221T200000
DTEND;TZID=America/New_York:20241221T220000
DTSTAMP:20260419T132351
CREATED:20241212T194011Z
LAST-MODIFIED:20241212T194011Z
UID:10003702-1734811200-1734818400@downtowncolumbus.com
SUMMARY:MadLab presents Comrades' Christmas Carol
DESCRIPTION:Come see red this Xmas\, with Scrooge and Marley and the whole gang. Believe us: you’ve never seen any Christmas Carol like this. (Unless you’ve seen Comrades’ before. And even then…)\n\n\n\n\n\n\n\n\n 
URL:https://downtowncolumbus.com/event/madlab-presents-comrades-christmas-carol/2024-12-21/
LOCATION:MadLab\, 227 N 3rd St\, Columbus\, OH\, 43215\, United States
ATTACH;FMTTYPE=image/jpeg:https://downtowncolumbus.com/wp-content/uploads/2024/12/MadLab.jpg
GEO:39.9673301;-82.9990676
X-APPLE-STRUCTURED-LOCATION;VALUE=URI;X-ADDRESS=MadLab 227 N 3rd St Columbus OH 43215 United States;X-APPLE-RADIUS=500;X-TITLE=227 N 3rd St:geo:-82.9990676,39.9673301
END:VEVENT
BEGIN:VEVENT
DTSTART;TZID=America/New_York:20241220T200000
DTEND;TZID=America/New_York:20241220T220000
DTSTAMP:20260419T132351
CREATED:20241212T194011Z
LAST-MODIFIED:20241212T194011Z
UID:10003701-1734724800-1734732000@downtowncolumbus.com
SUMMARY:MadLab presents Comrades' Christmas Carol
DESCRIPTION:Come see red this Xmas\, with Scrooge and Marley and the whole gang. Believe us: you’ve never seen any Christmas Carol like this. (Unless you’ve seen Comrades’ before. And even then…)\n\n\n\n\n\n\n\n\n 
URL:https://downtowncolumbus.com/event/madlab-presents-comrades-christmas-carol/2024-12-20/
LOCATION:MadLab\, 227 N 3rd St\, Columbus\, OH\, 43215\, United States
ATTACH;FMTTYPE=image/jpeg:https://downtowncolumbus.com/wp-content/uploads/2024/12/MadLab.jpg
GEO:39.9673301;-82.9990676
X-APPLE-STRUCTURED-LOCATION;VALUE=URI;X-ADDRESS=MadLab 227 N 3rd St Columbus OH 43215 United States;X-APPLE-RADIUS=500;X-TITLE=227 N 3rd St:geo:-82.9990676,39.9673301
END:VEVENT
BEGIN:VEVENT
DTSTART;TZID=America/New_York:20241214T200000
DTEND;TZID=America/New_York:20241214T220000
DTSTAMP:20260419T132351
CREATED:20241212T194011Z
LAST-MODIFIED:20241212T194011Z
UID:10003700-1734206400-1734213600@downtowncolumbus.com
SUMMARY:MadLab presents Comrades' Christmas Carol
DESCRIPTION:Come see red this Xmas\, with Scrooge and Marley and the whole gang. Believe us: you’ve never seen any Christmas Carol like this. (Unless you’ve seen Comrades’ before. And even then…)\n\n\n\n\n\n\n\n\n 
URL:https://downtowncolumbus.com/event/madlab-presents-comrades-christmas-carol/2024-12-14/
LOCATION:MadLab\, 227 N 3rd St\, Columbus\, OH\, 43215\, United States
ATTACH;FMTTYPE=image/jpeg:https://downtowncolumbus.com/wp-content/uploads/2024/12/MadLab.jpg
GEO:39.9673301;-82.9990676
X-APPLE-STRUCTURED-LOCATION;VALUE=URI;X-ADDRESS=MadLab 227 N 3rd St Columbus OH 43215 United States;X-APPLE-RADIUS=500;X-TITLE=227 N 3rd St:geo:-82.9990676,39.9673301
END:VEVENT
BEGIN:VEVENT
DTSTART;TZID=America/New_York:20241213T200000
DTEND;TZID=America/New_York:20241213T220000
DTSTAMP:20260419T132351
CREATED:20241212T194011Z
LAST-MODIFIED:20241212T194011Z
UID:10003699-1734120000-1734127200@downtowncolumbus.com
SUMMARY:MadLab presents Comrades' Christmas Carol
DESCRIPTION:Come see red this Xmas\, with Scrooge and Marley and the whole gang. Believe us: you’ve never seen any Christmas Carol like this. (Unless you’ve seen Comrades’ before. And even then…)\n\n\n\n\n\n\n\n\n 
URL:https://downtowncolumbus.com/event/madlab-presents-comrades-christmas-carol/2024-12-13/
LOCATION:MadLab\, 227 N 3rd St\, Columbus\, OH\, 43215\, United States
ATTACH;FMTTYPE=image/jpeg:https://downtowncolumbus.com/wp-content/uploads/2024/12/MadLab.jpg
GEO:39.9673301;-82.9990676
X-APPLE-STRUCTURED-LOCATION;VALUE=URI;X-ADDRESS=MadLab 227 N 3rd St Columbus OH 43215 United States;X-APPLE-RADIUS=500;X-TITLE=227 N 3rd St:geo:-82.9990676,39.9673301
END:VEVENT
END:VCALENDAR