BEGIN:VCALENDAR
VERSION:2.0
PRODID:-//Downtown Columbus - ECPv6.15.20//NONSGML v1.0//EN
CALSCALE:GREGORIAN
METHOD:PUBLISH
X-ORIGINAL-URL:https://downtowncolumbus.com
X-WR-CALDESC:Events for Downtown Columbus
REFRESH-INTERVAL;VALUE=DURATION:PT1H
X-Robots-Tag:noindex
X-PUBLISHED-TTL:PT1H
BEGIN:VTIMEZONE
TZID:America/New_York
BEGIN:DAYLIGHT
TZOFFSETFROM:-0500
TZOFFSETTO:-0400
TZNAME:EDT
DTSTART:20230312T070000
END:DAYLIGHT
BEGIN:STANDARD
TZOFFSETFROM:-0400
TZOFFSETTO:-0500
TZNAME:EST
DTSTART:20231105T060000
END:STANDARD
BEGIN:DAYLIGHT
TZOFFSETFROM:-0500
TZOFFSETTO:-0400
TZNAME:EDT
DTSTART:20240310T070000
END:DAYLIGHT
BEGIN:STANDARD
TZOFFSETFROM:-0400
TZOFFSETTO:-0500
TZNAME:EST
DTSTART:20241103T060000
END:STANDARD
BEGIN:DAYLIGHT
TZOFFSETFROM:-0500
TZOFFSETTO:-0400
TZNAME:EDT
DTSTART:20250309T070000
END:DAYLIGHT
BEGIN:STANDARD
TZOFFSETFROM:-0400
TZOFFSETTO:-0500
TZNAME:EST
DTSTART:20251102T060000
END:STANDARD
END:VTIMEZONE
BEGIN:VEVENT
DTSTART;TZID=America/New_York:20241215T140000
DTEND;TZID=America/New_York:20241215T140000
DTSTAMP:20260425T063654
CREATED:20241120T211934Z
LAST-MODIFIED:20241120T211943Z
UID:10003238-1734271200-1734271200@downtowncolumbus.com
SUMMARY:Light\, Bright\, and Gay
DESCRIPTION:What better way to celebrate the holiday season than watching the Columbus Gay Men’s Chorus in our concert\, Light\, Bright\, and Gay. We will be performing your favorite sacred and secular holiday tunes mixed with camp\, like only the gay men’s chorus can do! \n  \nGet Tickets Here
URL:https://downtowncolumbus.com/event/light-bright-and-gay-2/
LOCATION:JoAnn Davidson Theatre at the Vern Riffe Center\, 77 S High St\, Columbus\, OH\, United States
CATEGORIES:Entertainment
ATTACH;FMTTYPE=image/jpeg:https://downtowncolumbus.com/wp-content/uploads/2024/10/24-25_LightBrightGayTHUMB-20f059d627.jpg
GEO:39.9606364;-83.0009691
X-APPLE-STRUCTURED-LOCATION;VALUE=URI;X-ADDRESS=JoAnn Davidson Theatre at the Vern Riffe Center 77 S High St Columbus OH United States;X-APPLE-RADIUS=500;X-TITLE=77 S High St:geo:-83.0009691,39.9606364
END:VEVENT
BEGIN:VEVENT
DTSTART;TZID=America/New_York:20241214T193000
DTEND;TZID=America/New_York:20241214T193000
DTSTAMP:20260425T063654
CREATED:20241120T211846Z
LAST-MODIFIED:20241120T211854Z
UID:10003237-1734204600-1734204600@downtowncolumbus.com
SUMMARY:Light\, Bright\, and Gay
DESCRIPTION:What better way to celebrate the holiday season than watching the Columbus Gay Men’s Chorus in our concert\, Light\, Bright\, and Gay. We will be performing your favorite sacred and secular holiday tunes mixed with camp\, like only the gay men’s chorus can do! \n  \nGet Tickets Here
URL:https://downtowncolumbus.com/event/light-bright-and-gay/
LOCATION:JoAnn Davidson Theatre at the Vern Riffe Center\, 77 S High St\, Columbus\, OH\, United States
CATEGORIES:Entertainment
ATTACH;FMTTYPE=image/jpeg:https://downtowncolumbus.com/wp-content/uploads/2024/10/24-25_LightBrightGayTHUMB-20f059d627.jpg
GEO:39.9606364;-83.0009691
X-APPLE-STRUCTURED-LOCATION;VALUE=URI;X-ADDRESS=JoAnn Davidson Theatre at the Vern Riffe Center 77 S High St Columbus OH United States;X-APPLE-RADIUS=500;X-TITLE=77 S High St:geo:-83.0009691,39.9606364
END:VEVENT
BEGIN:VEVENT
DTSTART;TZID=America/New_York:20241102T193000
DTEND;TZID=America/New_York:20241102T193000
DTSTAMP:20260425T063654
CREATED:20241018T144415Z
LAST-MODIFIED:20241018T144805Z
UID:10002113-1730575800-1730575800@downtowncolumbus.com
SUMMARY:BalletMet - Dracula
DESCRIPTION:Join BalletMet in a journey to Count Dracula’s castle with David Nixon’s rendition of Dracula.  \nGet Tickets Here
URL:https://downtowncolumbus.com/event/balletmet-dracula-5/
LOCATION:JoAnn Davidson Theatre at the Vern Riffe Center\, 77 S High St\, Columbus\, OH\, United States
CATEGORIES:Arts & Culture
ATTACH;FMTTYPE=image/jpeg:https://downtowncolumbus.com/wp-content/uploads/2024/10/Capture-3.jpg
GEO:39.9606364;-83.0009691
X-APPLE-STRUCTURED-LOCATION;VALUE=URI;X-ADDRESS=JoAnn Davidson Theatre at the Vern Riffe Center 77 S High St Columbus OH United States;X-APPLE-RADIUS=500;X-TITLE=77 S High St:geo:-83.0009691,39.9606364
END:VEVENT
BEGIN:VEVENT
DTSTART;TZID=America/New_York:20241102T140000
DTEND;TZID=America/New_York:20241102T140000
DTSTAMP:20260425T063654
CREATED:20241018T144749Z
LAST-MODIFIED:20241018T144802Z
UID:10002117-1730556000-1730556000@downtowncolumbus.com
SUMMARY:BalletMet - Dracula
DESCRIPTION:Join BalletMet in a journey to Count Dracula’s castle with David Nixon’s rendition of Dracula.  \nGet Tickets Here
URL:https://downtowncolumbus.com/event/balletmet-dracula-9/
LOCATION:JoAnn Davidson Theatre at the Vern Riffe Center\, 77 S High St\, Columbus\, OH\, United States
CATEGORIES:Arts & Culture
ATTACH;FMTTYPE=image/jpeg:https://downtowncolumbus.com/wp-content/uploads/2024/10/Capture-3.jpg
GEO:39.9606364;-83.0009691
X-APPLE-STRUCTURED-LOCATION;VALUE=URI;X-ADDRESS=JoAnn Davidson Theatre at the Vern Riffe Center 77 S High St Columbus OH United States;X-APPLE-RADIUS=500;X-TITLE=77 S High St:geo:-83.0009691,39.9606364
END:VEVENT
BEGIN:VEVENT
DTSTART;TZID=America/New_York:20241101T193000
DTEND;TZID=America/New_York:20241101T193000
DTSTAMP:20260425T063654
CREATED:20241018T144344Z
LAST-MODIFIED:20241018T144806Z
UID:10002112-1730489400-1730489400@downtowncolumbus.com
SUMMARY:BalletMet - Dracula
DESCRIPTION:Join BalletMet in a journey to Count Dracula’s castle with David Nixon’s rendition of Dracula.  \nGet Tickets Here
URL:https://downtowncolumbus.com/event/balletmet-dracula-4/
LOCATION:JoAnn Davidson Theatre at the Vern Riffe Center\, 77 S High St\, Columbus\, OH\, United States
CATEGORIES:Arts & Culture
ATTACH;FMTTYPE=image/jpeg:https://downtowncolumbus.com/wp-content/uploads/2024/10/Capture-3.jpg
GEO:39.9606364;-83.0009691
X-APPLE-STRUCTURED-LOCATION;VALUE=URI;X-ADDRESS=JoAnn Davidson Theatre at the Vern Riffe Center 77 S High St Columbus OH United States;X-APPLE-RADIUS=500;X-TITLE=77 S High St:geo:-83.0009691,39.9606364
END:VEVENT
BEGIN:VEVENT
DTSTART;TZID=America/New_York:20241031T193000
DTEND;TZID=America/New_York:20241031T193000
DTSTAMP:20260425T063654
CREATED:20241018T144322Z
LAST-MODIFIED:20241018T144813Z
UID:10002111-1730403000-1730403000@downtowncolumbus.com
SUMMARY:BalletMet - Dracula
DESCRIPTION:Join BalletMet in a journey to Count Dracula’s castle with David Nixon’s rendition of Dracula.  \nGet Tickets Here
URL:https://downtowncolumbus.com/event/balletmet-dracula-3/
LOCATION:JoAnn Davidson Theatre at the Vern Riffe Center\, 77 S High St\, Columbus\, OH\, United States
CATEGORIES:Arts & Culture
ATTACH;FMTTYPE=image/jpeg:https://downtowncolumbus.com/wp-content/uploads/2024/10/Capture-3.jpg
GEO:39.9606364;-83.0009691
X-APPLE-STRUCTURED-LOCATION;VALUE=URI;X-ADDRESS=JoAnn Davidson Theatre at the Vern Riffe Center 77 S High St Columbus OH United States;X-APPLE-RADIUS=500;X-TITLE=77 S High St:geo:-83.0009691,39.9606364
END:VEVENT
BEGIN:VEVENT
DTSTART;TZID=America/New_York:20241027T173000
DTEND;TZID=America/New_York:20241027T173000
DTSTAMP:20260425T063654
CREATED:20241018T144720Z
LAST-MODIFIED:20241018T144809Z
UID:10002118-1730050200-1730050200@downtowncolumbus.com
SUMMARY:BalletMet - Dracula
DESCRIPTION:Join BalletMet in a journey to Count Dracula’s castle with David Nixon’s rendition of Dracula.  \nGet Tickets Here
URL:https://downtowncolumbus.com/event/balletmet-dracula-8/
LOCATION:JoAnn Davidson Theatre at the Vern Riffe Center\, 77 S High St\, Columbus\, OH\, United States
CATEGORIES:Arts & Culture
ATTACH;FMTTYPE=image/jpeg:https://downtowncolumbus.com/wp-content/uploads/2024/10/Capture-3.jpg
GEO:39.9606364;-83.0009691
X-APPLE-STRUCTURED-LOCATION;VALUE=URI;X-ADDRESS=JoAnn Davidson Theatre at the Vern Riffe Center 77 S High St Columbus OH United States;X-APPLE-RADIUS=500;X-TITLE=77 S High St:geo:-83.0009691,39.9606364
END:VEVENT
BEGIN:VEVENT
DTSTART;TZID=America/New_York:20241027T120000
DTEND;TZID=America/New_York:20241027T120000
DTSTAMP:20260425T063654
CREATED:20241018T144651Z
LAST-MODIFIED:20241018T144811Z
UID:10002116-1730030400-1730030400@downtowncolumbus.com
SUMMARY:BalletMet - Dracula
DESCRIPTION:Join BalletMet in a journey to Count Dracula’s castle with David Nixon’s rendition of Dracula.  \nGet Tickets Here
URL:https://downtowncolumbus.com/event/balletmet-dracula-7/
LOCATION:JoAnn Davidson Theatre at the Vern Riffe Center\, 77 S High St\, Columbus\, OH\, United States
CATEGORIES:Arts & Culture
ATTACH;FMTTYPE=image/jpeg:https://downtowncolumbus.com/wp-content/uploads/2024/10/Capture-3.jpg
GEO:39.9606364;-83.0009691
X-APPLE-STRUCTURED-LOCATION;VALUE=URI;X-ADDRESS=JoAnn Davidson Theatre at the Vern Riffe Center 77 S High St Columbus OH United States;X-APPLE-RADIUS=500;X-TITLE=77 S High St:geo:-83.0009691,39.9606364
END:VEVENT
BEGIN:VEVENT
DTSTART;TZID=America/New_York:20241026T193000
DTEND;TZID=America/New_York:20241026T193000
DTSTAMP:20260425T063654
CREATED:20241018T144156Z
LAST-MODIFIED:20241018T144818Z
UID:10002110-1729971000-1729971000@downtowncolumbus.com
SUMMARY:BalletMet - Dracula
DESCRIPTION:Join BalletMet in a journey to Count Dracula’s castle with David Nixon’s rendition of Dracula.  \nGet Tickets Here
URL:https://downtowncolumbus.com/event/balletmet-dracula-2/
LOCATION:JoAnn Davidson Theatre at the Vern Riffe Center\, 77 S High St\, Columbus\, OH\, United States
CATEGORIES:Arts & Culture
ATTACH;FMTTYPE=image/jpeg:https://downtowncolumbus.com/wp-content/uploads/2024/10/Capture-3.jpg
GEO:39.9606364;-83.0009691
X-APPLE-STRUCTURED-LOCATION;VALUE=URI;X-ADDRESS=JoAnn Davidson Theatre at the Vern Riffe Center 77 S High St Columbus OH United States;X-APPLE-RADIUS=500;X-TITLE=77 S High St:geo:-83.0009691,39.9606364
END:VEVENT
BEGIN:VEVENT
DTSTART;TZID=America/New_York:20241026T140000
DTEND;TZID=America/New_York:20241026T140000
DTSTAMP:20260425T063654
CREATED:20241018T144547Z
LAST-MODIFIED:20241018T144816Z
UID:10002115-1729951200-1729951200@downtowncolumbus.com
SUMMARY:BalletMet - Dracula
DESCRIPTION:Join BalletMet in a journey to Count Dracula’s castle with David Nixon’s rendition of Dracula.  \nGet Tickets Here
URL:https://downtowncolumbus.com/event/balletmet-dracula-6/
LOCATION:JoAnn Davidson Theatre at the Vern Riffe Center\, 77 S High St\, Columbus\, OH\, United States
CATEGORIES:Arts & Culture
ATTACH;FMTTYPE=image/jpeg:https://downtowncolumbus.com/wp-content/uploads/2024/10/Capture-3.jpg
GEO:39.9606364;-83.0009691
X-APPLE-STRUCTURED-LOCATION;VALUE=URI;X-ADDRESS=JoAnn Davidson Theatre at the Vern Riffe Center 77 S High St Columbus OH United States;X-APPLE-RADIUS=500;X-TITLE=77 S High St:geo:-83.0009691,39.9606364
END:VEVENT
BEGIN:VEVENT
DTSTART;TZID=America/New_York:20241025T193000
DTEND;TZID=America/New_York:20241025T193000
DTSTAMP:20260425T063654
CREATED:20241018T144111Z
LAST-MODIFIED:20241018T144820Z
UID:10002114-1729884600-1729884600@downtowncolumbus.com
SUMMARY:BalletMet - Dracula
DESCRIPTION:Join BalletMet in a journey to Count Dracula’s castle with David Nixon’s rendition of Dracula.  \nGet Tickets Here
URL:https://downtowncolumbus.com/event/balletmet-dracula/
LOCATION:JoAnn Davidson Theatre at the Vern Riffe Center\, 77 S High St\, Columbus\, OH\, United States
CATEGORIES:Arts & Culture
ATTACH;FMTTYPE=image/jpeg:https://downtowncolumbus.com/wp-content/uploads/2024/10/Capture-3.jpg
GEO:39.9606364;-83.0009691
X-APPLE-STRUCTURED-LOCATION;VALUE=URI;X-ADDRESS=JoAnn Davidson Theatre at the Vern Riffe Center 77 S High St Columbus OH United States;X-APPLE-RADIUS=500;X-TITLE=77 S High St:geo:-83.0009691,39.9606364
END:VEVENT
END:VCALENDAR