BEGIN:VCALENDAR
VERSION:2.0
PRODID:-//Downtown Columbus - ECPv6.15.20//NONSGML v1.0//EN
CALSCALE:GREGORIAN
METHOD:PUBLISH
X-WR-CALNAME:Downtown Columbus
X-ORIGINAL-URL:https://downtowncolumbus.com
X-WR-CALDESC:Events for Downtown Columbus
REFRESH-INTERVAL;VALUE=DURATION:PT1H
X-Robots-Tag:noindex
X-PUBLISHED-TTL:PT1H
BEGIN:VTIMEZONE
TZID:America/New_York
BEGIN:DAYLIGHT
TZOFFSETFROM:-0500
TZOFFSETTO:-0400
TZNAME:EDT
DTSTART:20230312T070000
END:DAYLIGHT
BEGIN:STANDARD
TZOFFSETFROM:-0400
TZOFFSETTO:-0500
TZNAME:EST
DTSTART:20231105T060000
END:STANDARD
BEGIN:DAYLIGHT
TZOFFSETFROM:-0500
TZOFFSETTO:-0400
TZNAME:EDT
DTSTART:20240310T070000
END:DAYLIGHT
BEGIN:STANDARD
TZOFFSETFROM:-0400
TZOFFSETTO:-0500
TZNAME:EST
DTSTART:20241103T060000
END:STANDARD
BEGIN:DAYLIGHT
TZOFFSETFROM:-0500
TZOFFSETTO:-0400
TZNAME:EDT
DTSTART:20250309T070000
END:DAYLIGHT
BEGIN:STANDARD
TZOFFSETFROM:-0400
TZOFFSETTO:-0500
TZNAME:EST
DTSTART:20251102T060000
END:STANDARD
END:VTIMEZONE
BEGIN:VEVENT
DTSTART;TZID=America/New_York:20241018T120000
DTEND;TZID=America/New_York:20241018T180000
DTSTAMP:20260424T072135
CREATED:20241018T145952Z
LAST-MODIFIED:20241018T145952Z
UID:10002123-1729252800-1729274400@downtowncolumbus.com
SUMMARY:Dracula Blood Drive
DESCRIPTION:Help BalletMet save lives this spooky season and be entered to win four (4) tickets to our season opener\, DRACULA\, when you sign up to donate blood at our Dracula Blood Drive!\nhttps://rcblood.org/3YA1oyu\nAs BalletMet prepares for this season’s production of Dracula\, we are learning more and more about the important role that blood donation plays in saving lives. That’s why they are partnering with our local American Red Cross to host a blood drive at the BalletMet studios!\nJoin them at BalletMet on October 18 from 12 – 6 p.m. to donate blood. Click the link below to secure the time slot that works best for you!\nhttps://rcblood.org/3YA1oyu 
URL:https://downtowncolumbus.com/event/dracula-blood-drive/
LOCATION:BalletMet Columbus\, Columbus\, OH\, United States
ATTACH;FMTTYPE=image/webp:https://downtowncolumbus.com/wp-content/uploads/2024/10/ONE-SHOT-3-1.webp
END:VEVENT
END:VCALENDAR