BEGIN:VCALENDAR
VERSION:2.0
PRODID:-//Downtown Columbus - ECPv6.15.20//NONSGML v1.0//EN
CALSCALE:GREGORIAN
METHOD:PUBLISH
X-WR-CALNAME:Downtown Columbus
X-ORIGINAL-URL:https://downtowncolumbus.com
X-WR-CALDESC:Events for Downtown Columbus
REFRESH-INTERVAL;VALUE=DURATION:PT1H
X-Robots-Tag:noindex
X-PUBLISHED-TTL:PT1H
BEGIN:VTIMEZONE
TZID:America/New_York
BEGIN:DAYLIGHT
TZOFFSETFROM:-0500
TZOFFSETTO:-0400
TZNAME:EDT
DTSTART:20230312T070000
END:DAYLIGHT
BEGIN:STANDARD
TZOFFSETFROM:-0400
TZOFFSETTO:-0500
TZNAME:EST
DTSTART:20231105T060000
END:STANDARD
BEGIN:DAYLIGHT
TZOFFSETFROM:-0500
TZOFFSETTO:-0400
TZNAME:EDT
DTSTART:20240310T070000
END:DAYLIGHT
BEGIN:STANDARD
TZOFFSETFROM:-0400
TZOFFSETTO:-0500
TZNAME:EST
DTSTART:20241103T060000
END:STANDARD
BEGIN:DAYLIGHT
TZOFFSETFROM:-0500
TZOFFSETTO:-0400
TZNAME:EDT
DTSTART:20250309T070000
END:DAYLIGHT
BEGIN:STANDARD
TZOFFSETFROM:-0400
TZOFFSETTO:-0500
TZNAME:EST
DTSTART:20251102T060000
END:STANDARD
BEGIN:DAYLIGHT
TZOFFSETFROM:-0500
TZOFFSETTO:-0400
TZNAME:EDT
DTSTART:20260308T070000
END:DAYLIGHT
BEGIN:STANDARD
TZOFFSETFROM:-0400
TZOFFSETTO:-0500
TZNAME:EST
DTSTART:20261101T060000
END:STANDARD
END:VTIMEZONE
BEGIN:VEVENT
DTSTART;TZID=America/New_York:20250913T120000
DTEND;TZID=America/New_York:20250913T120000
DTSTAMP:20260424T072053
CREATED:20250715T183502Z
LAST-MODIFIED:20250715T183512Z
UID:10006412-1757764800-1757764800@downtowncolumbus.com
SUMMARY:PBJ & Jazz: Robert Dove & Friends
DESCRIPTION:Join Arts Group Columbus at 11:00 a.m. for story time at the Columbus Metropolitan Library followed by an hour of FREE music starting at 12:00 p.m. in the Topiary Park for a jam-packed Saturday! \nPBJ & Jazz performances are made possible by the support of Encova Insurance\, Friends of the Library\, and WCBE Radio\, along with partnerships with Friends of the Topiary Park and the Columbus Metropolitan Library. \n\n\n\n\n\n\n\n\n\n\n 
URL:https://downtowncolumbus.com/event/pbj-jazz-robert-dove-friends/
LOCATION:Topiary Park\, 480 E Town St\, Columbus\, OH\, 43215\, United States
CATEGORIES:Entertainment
ATTACH;FMTTYPE=image/jpeg:https://downtowncolumbus.com/wp-content/uploads/2025/07/Robert-Dove-Friends.jpg
GEO:39.9611761;-82.9874507
X-APPLE-STRUCTURED-LOCATION;VALUE=URI;X-ADDRESS=Topiary Park 480 E Town St Columbus OH 43215 United States;X-APPLE-RADIUS=500;X-TITLE=480 E Town St:geo:-82.9874507,39.9611761
END:VEVENT
BEGIN:VEVENT
DTSTART;TZID=America/New_York:20250809T120000
DTEND;TZID=America/New_York:20250809T120000
DTSTAMP:20260424T072053
CREATED:20250715T183151Z
LAST-MODIFIED:20250715T183202Z
UID:10006411-1754740800-1754740800@downtowncolumbus.com
SUMMARY:PBJ & Jazz: Laura Camara
DESCRIPTION:Join Arts Group Columbus at 11:00 a.m. for story time at the Columbus Metropolitan Library followed by an hour of FREE music starting at 12:00 p.m. in the Topiary Park for a jam-packed Saturday! \nPBJ & Jazz performances are made possible by the support of Encova Insurance\, Friends of the Library\, and WCBE Radio\, along with partnerships with Friends of the Topiary Park and the Columbus Metropolitan Library. \n\n\n\n\n\n\n\n\n\n\n 
URL:https://downtowncolumbus.com/event/pbj-jazz-laura-camara/
LOCATION:Topiary Park\, 480 E Town St\, Columbus\, OH\, 43215\, United States
CATEGORIES:Entertainment
ATTACH;FMTTYPE=image/jpeg:https://downtowncolumbus.com/wp-content/uploads/2025/07/Laura-Camara.jpg
GEO:39.9611761;-82.9874507
X-APPLE-STRUCTURED-LOCATION;VALUE=URI;X-ADDRESS=Topiary Park 480 E Town St Columbus OH 43215 United States;X-APPLE-RADIUS=500;X-TITLE=480 E Town St:geo:-82.9874507,39.9611761
END:VEVENT
BEGIN:VEVENT
DTSTART;TZID=America/New_York:20250719T120000
DTEND;TZID=America/New_York:20250719T120000
DTSTAMP:20260424T072053
CREATED:20250715T182930Z
LAST-MODIFIED:20250715T182956Z
UID:10006410-1752926400-1752926400@downtowncolumbus.com
SUMMARY:PBJ & Jazz: Byron Stripling & Bobby Floyd
DESCRIPTION:Join Arts Group Columbus at 11:00 a.m. for story time at the Columbus Metropolitan Library followed by an hour of FREE music starting at 12:00 p.m. in the Topiary Park for a jam-packed Saturday! \nPBJ & Jazz performances are made possible by the support of Encova Insurance\, Friends of the Library\, and WCBE Radio\, along with partnerships with Friends of the Topiary Park and the Columbus Metropolitan Library. \n\n\n\n\n\n\n\n\n\n\n 
URL:https://downtowncolumbus.com/event/pbj-jazz-byron-stripling-bobby-floyd/
LOCATION:Topiary Park\, 480 E Town St\, Columbus\, OH\, 43215\, United States
CATEGORIES:Entertainment
ATTACH;FMTTYPE=image/jpeg:https://downtowncolumbus.com/wp-content/uploads/2025/07/Bobby-Byron.jpg
GEO:39.9611761;-82.9874507
X-APPLE-STRUCTURED-LOCATION;VALUE=URI;X-ADDRESS=Topiary Park 480 E Town St Columbus OH 43215 United States;X-APPLE-RADIUS=500;X-TITLE=480 E Town St:geo:-82.9874507,39.9611761
END:VEVENT
BEGIN:VEVENT
DTSTART;TZID=America/New_York:20250406T150000
DTEND;TZID=America/New_York:20250406T150000
DTSTAMP:20260424T072053
CREATED:20250325T135237Z
LAST-MODIFIED:20250325T135301Z
UID:10005316-1743951600-1743951600@downtowncolumbus.com
SUMMARY:The Woman's Got Soul ft. Crystal Monee Hall
DESCRIPTION:Be transported to the heart of soul music with R&B singer-songwriter and Broadway sensation\, Crystal Monee Hall. Your Columbus Jazz Orchestra and Byron Stripling will lead you on a truly soulful experience that will leave you craving more!
URL:https://downtowncolumbus.com/event/the-womans-got-soul-ft-crystal-monee-hall-4/
LOCATION:Southern Theatre\, 21 E Main St\, Columbus\, OH\, 43215\, United States
CATEGORIES:Entertainment
ATTACH;FMTTYPE=image/jpeg:https://downtowncolumbus.com/wp-content/uploads/2025/03/April-NEW.jpg
GEO:39.9560565;-82.9986564
X-APPLE-STRUCTURED-LOCATION;VALUE=URI;X-ADDRESS=Southern Theatre 21 E Main St Columbus OH 43215 United States;X-APPLE-RADIUS=500;X-TITLE=21 E Main St:geo:-82.9986564,39.9560565
END:VEVENT
BEGIN:VEVENT
DTSTART;TZID=America/New_York:20250405T190000
DTEND;TZID=America/New_York:20250405T190000
DTSTAMP:20260424T072053
CREATED:20250325T135159Z
LAST-MODIFIED:20250325T135245Z
UID:10005315-1743879600-1743879600@downtowncolumbus.com
SUMMARY:The Woman's Got Soul ft. Crystal Monee Hall
DESCRIPTION:Be transported to the heart of soul music with R&B singer-songwriter and Broadway sensation\, Crystal Monee Hall. Your Columbus Jazz Orchestra and Byron Stripling will lead you on a truly soulful experience that will leave you craving more!
URL:https://downtowncolumbus.com/event/the-womans-got-soul-ft-crystal-monee-hall-3/
LOCATION:Southern Theatre\, 21 E Main St\, Columbus\, OH\, 43215\, United States
CATEGORIES:Entertainment
ATTACH;FMTTYPE=image/jpeg:https://downtowncolumbus.com/wp-content/uploads/2025/03/April-NEW.jpg
GEO:39.9560565;-82.9986564
X-APPLE-STRUCTURED-LOCATION;VALUE=URI;X-ADDRESS=Southern Theatre 21 E Main St Columbus OH 43215 United States;X-APPLE-RADIUS=500;X-TITLE=21 E Main St:geo:-82.9986564,39.9560565
END:VEVENT
BEGIN:VEVENT
DTSTART;TZID=America/New_York:20250404T190000
DTEND;TZID=America/New_York:20250404T190000
DTSTAMP:20260424T072053
CREATED:20250325T135152Z
LAST-MODIFIED:20250325T135243Z
UID:10005314-1743793200-1743793200@downtowncolumbus.com
SUMMARY:The Woman's Got Soul ft. Crystal Monee Hall
DESCRIPTION:Be transported to the heart of soul music with R&B singer-songwriter and Broadway sensation\, Crystal Monee Hall. Your Columbus Jazz Orchestra and Byron Stripling will lead you on a truly soulful experience that will leave you craving more!
URL:https://downtowncolumbus.com/event/the-womans-got-soul-ft-crystal-monee-hall-2/
LOCATION:Southern Theatre\, 21 E Main St\, Columbus\, OH\, 43215\, United States
CATEGORIES:Entertainment
ATTACH;FMTTYPE=image/jpeg:https://downtowncolumbus.com/wp-content/uploads/2025/03/April-NEW.jpg
GEO:39.9560565;-82.9986564
X-APPLE-STRUCTURED-LOCATION;VALUE=URI;X-ADDRESS=Southern Theatre 21 E Main St Columbus OH 43215 United States;X-APPLE-RADIUS=500;X-TITLE=21 E Main St:geo:-82.9986564,39.9560565
END:VEVENT
BEGIN:VEVENT
DTSTART;TZID=America/New_York:20250403T190000
DTEND;TZID=America/New_York:20250403T190000
DTSTAMP:20260424T072053
CREATED:20250325T134955Z
LAST-MODIFIED:20250325T135240Z
UID:10005317-1743706800-1743706800@downtowncolumbus.com
SUMMARY:The Woman's Got Soul ft. Crystal Monee Hall
DESCRIPTION:Be transported to the heart of soul music with R&B singer-songwriter and Broadway sensation\, Crystal Monee Hall. Your Columbus Jazz Orchestra and Byron Stripling will lead you on a truly soulful experience that will leave you craving more!
URL:https://downtowncolumbus.com/event/the-womans-got-soul-ft-crystal-monee-hall/
LOCATION:Southern Theatre\, 21 E Main St\, Columbus\, OH\, 43215\, United States
CATEGORIES:Entertainment
ATTACH;FMTTYPE=image/jpeg:https://downtowncolumbus.com/wp-content/uploads/2025/03/April-NEW.jpg
GEO:39.9560565;-82.9986564
X-APPLE-STRUCTURED-LOCATION;VALUE=URI;X-ADDRESS=Southern Theatre 21 E Main St Columbus OH 43215 United States;X-APPLE-RADIUS=500;X-TITLE=21 E Main St:geo:-82.9986564,39.9560565
END:VEVENT
BEGIN:VEVENT
DTSTART;TZID=America/New_York:20240914T120000
DTEND;TZID=America/New_York:20240914T120000
DTSTAMP:20260424T072053
CREATED:20240717T203026Z
LAST-MODIFIED:20240717T203101Z
UID:10001065-1726315200-1726315200@downtowncolumbus.com
SUMMARY:PBJ & Jazz: Such Sweet Thunder
DESCRIPTION:PBJ & Jazz concerts are 1-hour long interactive concerts designed to introduce jazz and American music to young children and their families. Featuring some of Ohio’s finest musicians and ensembles\, PBJ & Jazz concerts are a great introduction to live music for the youngest audience member. \nPBJ & Jazz Summer Series concerts are presented outdoors at Topiary Park!
URL:https://downtowncolumbus.com/event/pbj-jazz-such-sweet-thunder/
LOCATION:Topiary Park\, 480 E Town St\, Columbus\, OH\, 43215\, United States
CATEGORIES:Arts & Culture,Entertainment,Family,Parks
ATTACH;FMTTYPE=image/jpeg:https://downtowncolumbus.com/wp-content/uploads/2024/07/4.jpg
GEO:39.9611761;-82.9874507
X-APPLE-STRUCTURED-LOCATION;VALUE=URI;X-ADDRESS=Topiary Park 480 E Town St Columbus OH 43215 United States;X-APPLE-RADIUS=500;X-TITLE=480 E Town St:geo:-82.9874507,39.9611761
END:VEVENT
BEGIN:VEVENT
DTSTART;TZID=America/New_York:20240810T120000
DTEND;TZID=America/New_York:20240810T120000
DTSTAMP:20260424T072053
CREATED:20240717T201311Z
LAST-MODIFIED:20240717T203140Z
UID:10001064-1723291200-1723291200@downtowncolumbus.com
SUMMARY:PBJ & Jazz: Bobby Floyd Trio with Byron Stripling
DESCRIPTION:PBJ & Jazz concerts are 1-hour long interactive concerts designed to introduce jazz and American music to young children and their families. Featuring some of Ohio’s finest musicians and ensembles\, PBJ & Jazz concerts are a great introduction to live music for the youngest audience member. \nPBJ & Jazz Summer Series concerts are presented outdoors at Topiary Park!
URL:https://downtowncolumbus.com/event/pbj-jazz-summer-series-featuring-bobby-floyd-trio-with-byron-stripling/
LOCATION:Topiary Park\, 480 E Town St\, Columbus\, OH\, 43215\, United States
CATEGORIES:Arts & Culture,Entertainment,Family,Parks
ATTACH;FMTTYPE=image/jpeg:https://downtowncolumbus.com/wp-content/uploads/2024/07/3.jpg
GEO:39.9611761;-82.9874507
X-APPLE-STRUCTURED-LOCATION;VALUE=URI;X-ADDRESS=Topiary Park 480 E Town St Columbus OH 43215 United States;X-APPLE-RADIUS=500;X-TITLE=480 E Town St:geo:-82.9874507,39.9611761
END:VEVENT
BEGIN:VEVENT
DTSTART;TZID=America/New_York:20240720T120000
DTEND;TZID=America/New_York:20240720T120000
DTSTAMP:20260424T072053
CREATED:20240717T200734Z
LAST-MODIFIED:20240717T203212Z
UID:10001063-1721476800-1721476800@downtowncolumbus.com
SUMMARY:PBJ & Jazz: Latin Grooves with Will Strickler
DESCRIPTION:PBJ & Jazz concerts are 1-hour long interactive concerts designed to introduce jazz and American music to young children and their families. Featuring some of Ohio’s finest musicians and ensembles\, PBJ & Jazz concerts are a great introduction to live music for the youngest audience member. \nPBJ & Jazz Summer Series concerts are presented outdoors at Topiary Park!
URL:https://downtowncolumbus.com/event/pbj-jazz-summer-series-featuring-latin-grooves-with-will-strickler/
LOCATION:Topiary Park\, 480 E Town St\, Columbus\, OH\, 43215\, United States
CATEGORIES:Arts & Culture,Entertainment,Family,Parks
ATTACH;FMTTYPE=image/jpeg:https://downtowncolumbus.com/wp-content/uploads/2024/07/2.jpg
GEO:39.9611761;-82.9874507
X-APPLE-STRUCTURED-LOCATION;VALUE=URI;X-ADDRESS=Topiary Park 480 E Town St Columbus OH 43215 United States;X-APPLE-RADIUS=500;X-TITLE=480 E Town St:geo:-82.9874507,39.9611761
END:VEVENT
END:VCALENDAR