BEGIN:VCALENDAR
VERSION:2.0
PRODID:-//Downtown Columbus - ECPv6.15.20//NONSGML v1.0//EN
CALSCALE:GREGORIAN
METHOD:PUBLISH
X-WR-CALNAME:Downtown Columbus
X-ORIGINAL-URL:https://downtowncolumbus.com
X-WR-CALDESC:Events for Downtown Columbus
REFRESH-INTERVAL;VALUE=DURATION:PT1H
X-Robots-Tag:noindex
X-PUBLISHED-TTL:PT1H
BEGIN:VTIMEZONE
TZID:America/New_York
BEGIN:DAYLIGHT
TZOFFSETFROM:-0500
TZOFFSETTO:-0400
TZNAME:EDT
DTSTART:20240310T070000
END:DAYLIGHT
BEGIN:STANDARD
TZOFFSETFROM:-0400
TZOFFSETTO:-0500
TZNAME:EST
DTSTART:20241103T060000
END:STANDARD
BEGIN:DAYLIGHT
TZOFFSETFROM:-0500
TZOFFSETTO:-0400
TZNAME:EDT
DTSTART:20250309T070000
END:DAYLIGHT
BEGIN:STANDARD
TZOFFSETFROM:-0400
TZOFFSETTO:-0500
TZNAME:EST
DTSTART:20251102T060000
END:STANDARD
BEGIN:DAYLIGHT
TZOFFSETFROM:-0500
TZOFFSETTO:-0400
TZNAME:EDT
DTSTART:20260308T070000
END:DAYLIGHT
BEGIN:STANDARD
TZOFFSETFROM:-0400
TZOFFSETTO:-0500
TZNAME:EST
DTSTART:20261101T060000
END:STANDARD
BEGIN:DAYLIGHT
TZOFFSETFROM:-0500
TZOFFSETTO:-0400
TZNAME:EDT
DTSTART:20270314T070000
END:DAYLIGHT
BEGIN:STANDARD
TZOFFSETFROM:-0400
TZOFFSETTO:-0500
TZNAME:EST
DTSTART:20271107T060000
END:STANDARD
END:VTIMEZONE
BEGIN:VEVENT
DTSTART;TZID=America/New_York:20260214T183000
DTEND;TZID=America/New_York:20260214T210000
DTSTAMP:20260422T044546
CREATED:20260126T194653Z
LAST-MODIFIED:20260126T194653Z
UID:10012880-1771093800-1771102800@downtowncolumbus.com
SUMMARY:GALA Midwest Choral Blockbuster
DESCRIPTION:Enjoy this Midwest Choral Blockbuster featuring the Cincinnati Men’s Chorus\, Columbus Gay Men’s Chorus\, Indianapolis Women’s Chorus\, MUSE Cincinnati’s Women’s Choir\, PRISM Men’s Chorus and Windsong Cleveland’s Feminist Chorus.
URL:https://downtowncolumbus.com/event/gala-midwest-choral-blockbuster/
LOCATION:Davidson Theater –  Riffe Center Theatre Complex\, 77 S. High Street\, Columbus\, 43215
CATEGORIES:Entertainment
ATTACH;FMTTYPE=image/webp:https://downtowncolumbus.com/wp-content/uploads/2026/01/25-26_MidwestChoralBlockbuster_MAIN-1536x908-1.webp
END:VEVENT
BEGIN:VEVENT
DTSTART;TZID=America/New_York:20250927T193000
DTEND;TZID=America/New_York:20250927T203000
DTSTAMP:20260422T044546
CREATED:20250902T171242Z
LAST-MODIFIED:20250902T171242Z
UID:10007958-1759001400-1759005000@downtowncolumbus.com
SUMMARY:The Queeriverse
DESCRIPTION:Experience COSI’s planetarium as CGMC’s VOX performs music about space!
URL:https://downtowncolumbus.com/event/the-queeriverse/2025-09-27/
LOCATION:COSI\, 333 W Broad St\, Columbus\, OH\, United States
CATEGORIES:Arts & Culture,Entertainment
ATTACH;FMTTYPE=image/jpeg:https://downtowncolumbus.com/wp-content/uploads/2025/09/25-26_CGMC_Queeriverse_MAIN-1024x606-1.jpg
GEO:39.9598362;-83.0070197
X-APPLE-STRUCTURED-LOCATION;VALUE=URI;X-ADDRESS=COSI 333 W Broad St Columbus OH United States;X-APPLE-RADIUS=500;X-TITLE=333 W Broad St:geo:-83.0070197,39.9598362
END:VEVENT
BEGIN:VEVENT
DTSTART;TZID=America/New_York:20250926T193000
DTEND;TZID=America/New_York:20250926T213000
DTSTAMP:20260422T044546
CREATED:20250902T171242Z
LAST-MODIFIED:20250902T171242Z
UID:10007957-1758915000-1758922200@downtowncolumbus.com
SUMMARY:The Queeriverse
DESCRIPTION:Experience COSI’s planetarium as CGMC’s VOX performs music about space!
URL:https://downtowncolumbus.com/event/the-queeriverse/2025-09-26/
LOCATION:COSI\, 333 W Broad St\, Columbus\, OH\, United States
CATEGORIES:Arts & Culture,Entertainment
ATTACH;FMTTYPE=image/jpeg:https://downtowncolumbus.com/wp-content/uploads/2025/09/25-26_CGMC_Queeriverse_MAIN-1024x606-1.jpg
GEO:39.9598362;-83.0070197
X-APPLE-STRUCTURED-LOCATION;VALUE=URI;X-ADDRESS=COSI 333 W Broad St Columbus OH United States;X-APPLE-RADIUS=500;X-TITLE=333 W Broad St:geo:-83.0070197,39.9598362
END:VEVENT
END:VCALENDAR