BEGIN:VCALENDAR
VERSION:2.0
PRODID:-//Downtown Columbus - ECPv6.15.20//NONSGML v1.0//EN
CALSCALE:GREGORIAN
METHOD:PUBLISH
X-ORIGINAL-URL:https://downtowncolumbus.com
X-WR-CALDESC:Events for Downtown Columbus
REFRESH-INTERVAL;VALUE=DURATION:PT1H
X-Robots-Tag:noindex
X-PUBLISHED-TTL:PT1H
BEGIN:VTIMEZONE
TZID:America/New_York
BEGIN:DAYLIGHT
TZOFFSETFROM:-0500
TZOFFSETTO:-0400
TZNAME:EDT
DTSTART:20240310T070000
END:DAYLIGHT
BEGIN:STANDARD
TZOFFSETFROM:-0400
TZOFFSETTO:-0500
TZNAME:EST
DTSTART:20241103T060000
END:STANDARD
BEGIN:DAYLIGHT
TZOFFSETFROM:-0500
TZOFFSETTO:-0400
TZNAME:EDT
DTSTART:20250309T070000
END:DAYLIGHT
BEGIN:STANDARD
TZOFFSETFROM:-0400
TZOFFSETTO:-0500
TZNAME:EST
DTSTART:20251102T060000
END:STANDARD
BEGIN:DAYLIGHT
TZOFFSETFROM:-0500
TZOFFSETTO:-0400
TZNAME:EDT
DTSTART:20260308T070000
END:DAYLIGHT
BEGIN:STANDARD
TZOFFSETFROM:-0400
TZOFFSETTO:-0500
TZNAME:EST
DTSTART:20261101T060000
END:STANDARD
BEGIN:DAYLIGHT
TZOFFSETFROM:-0500
TZOFFSETTO:-0400
TZNAME:EDT
DTSTART:20270314T070000
END:DAYLIGHT
BEGIN:STANDARD
TZOFFSETFROM:-0400
TZOFFSETTO:-0500
TZNAME:EST
DTSTART:20271107T060000
END:STANDARD
END:VTIMEZONE
BEGIN:VEVENT
DTSTART;TZID=America/New_York:20260214T140000
DTEND;TZID=America/New_York:20260214T170000
DTSTAMP:20260424T060331
CREATED:20260126T192259Z
LAST-MODIFIED:20260126T192444Z
UID:10012874-1771077600-1771088400@downtowncolumbus.com
SUMMARY:Peter Pan
DESCRIPTION:Trey McIntyre’s Peter Pan soars to thrilling new heights. Featuring stunning sets and costumes by Emma Bailey\, known for her work on Broadway’s SIX\, the production blends punk energy and glam style to create a Neverland unlike any other. With daring choreography and a rebellious edge\, this adventurous take on the classic tale demands audiences embrace their inner child\, believe in magic and never grow up!
URL:https://downtowncolumbus.com/event/peter-pan-9/2026-02-14/1/
LOCATION:Ohio Theatre\, 39 E State St\, Columbus\, OH\, 43215\, United States
CATEGORIES:Arts & Culture,Entertainment
ATTACH;FMTTYPE=image/webp:https://downtowncolumbus.com/wp-content/uploads/2026/01/25-26_PeterPan_MAIN-1536x909-1.webp
GEO:39.960068;-82.99889
X-APPLE-STRUCTURED-LOCATION;VALUE=URI;X-ADDRESS=Ohio Theatre 39 E State St Columbus OH 43215 United States;X-APPLE-RADIUS=500;X-TITLE=39 E State St:geo:-82.99889,39.960068
END:VEVENT
BEGIN:VEVENT
DTSTART;TZID=America/New_York:20260213T193000
DTEND;TZID=America/New_York:20260213T213000
DTSTAMP:20260424T060331
CREATED:20260126T192259Z
LAST-MODIFIED:20260126T192444Z
UID:10012873-1771011000-1771018200@downtowncolumbus.com
SUMMARY:Peter Pan
DESCRIPTION:Trey McIntyre’s Peter Pan soars to thrilling new heights. Featuring stunning sets and costumes by Emma Bailey\, known for her work on Broadway’s SIX\, the production blends punk energy and glam style to create a Neverland unlike any other. With daring choreography and a rebellious edge\, this adventurous take on the classic tale demands audiences embrace their inner child\, believe in magic and never grow up!
URL:https://downtowncolumbus.com/event/peter-pan-9/2026-02-13/
LOCATION:Ohio Theatre\, 39 E State St\, Columbus\, OH\, 43215\, United States
CATEGORIES:Arts & Culture,Entertainment
ATTACH;FMTTYPE=image/webp:https://downtowncolumbus.com/wp-content/uploads/2026/01/25-26_PeterPan_MAIN-1536x909-1.webp
GEO:39.960068;-82.99889
X-APPLE-STRUCTURED-LOCATION;VALUE=URI;X-ADDRESS=Ohio Theatre 39 E State St Columbus OH 43215 United States;X-APPLE-RADIUS=500;X-TITLE=39 E State St:geo:-82.99889,39.960068
END:VEVENT
BEGIN:VEVENT
DTSTART;TZID=America/New_York:20251228T120000
DTEND;TZID=America/New_York:20251228T143000
DTSTAMP:20260424T060331
CREATED:20251120T193434Z
LAST-MODIFIED:20251120T193434Z
UID:10012008-1766923200-1766932200@downtowncolumbus.com
SUMMARY:The Nutcracker
DESCRIPTION:Get into the holiday spirit with the iconic ballet\, The Nutcracker.
URL:https://downtowncolumbus.com/event/the-nutcracker-2/2025-12-28/
LOCATION:Ohio Theatre\, 39 E State St\, Columbus\, OH\, 43215\, United States
CATEGORIES:Entertainment
ATTACH;FMTTYPE=image/jpeg:https://downtowncolumbus.com/wp-content/uploads/2025/11/F85A1073-975x650-1.jpg
GEO:39.960068;-82.99889
X-APPLE-STRUCTURED-LOCATION;VALUE=URI;X-ADDRESS=Ohio Theatre 39 E State St Columbus OH 43215 United States;X-APPLE-RADIUS=500;X-TITLE=39 E State St:geo:-82.99889,39.960068
END:VEVENT
BEGIN:VEVENT
DTSTART;TZID=America/New_York:20251227T193000
DTEND;TZID=America/New_York:20251227T213000
DTSTAMP:20260424T060332
CREATED:20251120T193434Z
LAST-MODIFIED:20251120T193434Z
UID:10012007-1766863800-1766871000@downtowncolumbus.com
SUMMARY:The Nutcracker
DESCRIPTION:Get into the holiday spirit with the iconic ballet\, The Nutcracker.
URL:https://downtowncolumbus.com/event/the-nutcracker-2/2025-12-27/2/
LOCATION:Ohio Theatre\, 39 E State St\, Columbus\, OH\, 43215\, United States
CATEGORIES:Entertainment
ATTACH;FMTTYPE=image/jpeg:https://downtowncolumbus.com/wp-content/uploads/2025/11/F85A1073-975x650-1.jpg
GEO:39.960068;-82.99889
X-APPLE-STRUCTURED-LOCATION;VALUE=URI;X-ADDRESS=Ohio Theatre 39 E State St Columbus OH 43215 United States;X-APPLE-RADIUS=500;X-TITLE=39 E State St:geo:-82.99889,39.960068
END:VEVENT
BEGIN:VEVENT
DTSTART;TZID=America/New_York:20251227T120000
DTEND;TZID=America/New_York:20251227T140000
DTSTAMP:20260424T060332
CREATED:20251120T193434Z
LAST-MODIFIED:20251120T193434Z
UID:10012006-1766836800-1766844000@downtowncolumbus.com
SUMMARY:The Nutcracker
DESCRIPTION:Get into the holiday spirit with the iconic ballet\, The Nutcracker.
URL:https://downtowncolumbus.com/event/the-nutcracker-2/2025-12-27/1/
LOCATION:Ohio Theatre\, 39 E State St\, Columbus\, OH\, 43215\, United States
CATEGORIES:Entertainment
ATTACH;FMTTYPE=image/jpeg:https://downtowncolumbus.com/wp-content/uploads/2025/11/F85A1073-975x650-1.jpg
GEO:39.960068;-82.99889
X-APPLE-STRUCTURED-LOCATION;VALUE=URI;X-ADDRESS=Ohio Theatre 39 E State St Columbus OH 43215 United States;X-APPLE-RADIUS=500;X-TITLE=39 E State St:geo:-82.99889,39.960068
END:VEVENT
BEGIN:VEVENT
DTSTART;TZID=America/New_York:20251226T193000
DTEND;TZID=America/New_York:20251226T213000
DTSTAMP:20260424T060332
CREATED:20251120T193434Z
LAST-MODIFIED:20251120T193434Z
UID:10012005-1766777400-1766784600@downtowncolumbus.com
SUMMARY:The Nutcracker
DESCRIPTION:Get into the holiday spirit with the iconic ballet\, The Nutcracker.
URL:https://downtowncolumbus.com/event/the-nutcracker-2/2025-12-26/
LOCATION:Ohio Theatre\, 39 E State St\, Columbus\, OH\, 43215\, United States
CATEGORIES:Entertainment
ATTACH;FMTTYPE=image/jpeg:https://downtowncolumbus.com/wp-content/uploads/2025/11/F85A1073-975x650-1.jpg
GEO:39.960068;-82.99889
X-APPLE-STRUCTURED-LOCATION;VALUE=URI;X-ADDRESS=Ohio Theatre 39 E State St Columbus OH 43215 United States;X-APPLE-RADIUS=500;X-TITLE=39 E State St:geo:-82.99889,39.960068
END:VEVENT
BEGIN:VEVENT
DTSTART;TZID=America/New_York:20251224T120000
DTEND;TZID=America/New_York:20251224T140000
DTSTAMP:20260424T060332
CREATED:20251120T193434Z
LAST-MODIFIED:20251120T193434Z
UID:10012004-1766577600-1766584800@downtowncolumbus.com
SUMMARY:The Nutcracker
DESCRIPTION:Get into the holiday spirit with the iconic ballet\, The Nutcracker.
URL:https://downtowncolumbus.com/event/the-nutcracker-2/2025-12-24/
LOCATION:Ohio Theatre\, 39 E State St\, Columbus\, OH\, 43215\, United States
CATEGORIES:Entertainment
ATTACH;FMTTYPE=image/jpeg:https://downtowncolumbus.com/wp-content/uploads/2025/11/F85A1073-975x650-1.jpg
GEO:39.960068;-82.99889
X-APPLE-STRUCTURED-LOCATION;VALUE=URI;X-ADDRESS=Ohio Theatre 39 E State St Columbus OH 43215 United States;X-APPLE-RADIUS=500;X-TITLE=39 E State St:geo:-82.99889,39.960068
END:VEVENT
BEGIN:VEVENT
DTSTART;TZID=America/New_York:20251223T193000
DTEND;TZID=America/New_York:20251223T213000
DTSTAMP:20260424T060332
CREATED:20251120T193434Z
LAST-MODIFIED:20251120T193434Z
UID:10012003-1766518200-1766525400@downtowncolumbus.com
SUMMARY:The Nutcracker
DESCRIPTION:Get into the holiday spirit with the iconic ballet\, The Nutcracker.
URL:https://downtowncolumbus.com/event/the-nutcracker-2/2025-12-23/2/
LOCATION:Ohio Theatre\, 39 E State St\, Columbus\, OH\, 43215\, United States
CATEGORIES:Entertainment
ATTACH;FMTTYPE=image/jpeg:https://downtowncolumbus.com/wp-content/uploads/2025/11/F85A1073-975x650-1.jpg
GEO:39.960068;-82.99889
X-APPLE-STRUCTURED-LOCATION;VALUE=URI;X-ADDRESS=Ohio Theatre 39 E State St Columbus OH 43215 United States;X-APPLE-RADIUS=500;X-TITLE=39 E State St:geo:-82.99889,39.960068
END:VEVENT
BEGIN:VEVENT
DTSTART;TZID=America/New_York:20251223T110000
DTEND;TZID=America/New_York:20251223T130000
DTSTAMP:20260424T060332
CREATED:20251120T193434Z
LAST-MODIFIED:20251120T193434Z
UID:10012002-1766487600-1766494800@downtowncolumbus.com
SUMMARY:The Nutcracker
DESCRIPTION:Get into the holiday spirit with the iconic ballet\, The Nutcracker.
URL:https://downtowncolumbus.com/event/the-nutcracker-2/2025-12-23/1/
LOCATION:Ohio Theatre\, 39 E State St\, Columbus\, OH\, 43215\, United States
CATEGORIES:Entertainment
ATTACH;FMTTYPE=image/jpeg:https://downtowncolumbus.com/wp-content/uploads/2025/11/F85A1073-975x650-1.jpg
GEO:39.960068;-82.99889
X-APPLE-STRUCTURED-LOCATION;VALUE=URI;X-ADDRESS=Ohio Theatre 39 E State St Columbus OH 43215 United States;X-APPLE-RADIUS=500;X-TITLE=39 E State St:geo:-82.99889,39.960068
END:VEVENT
BEGIN:VEVENT
DTSTART;TZID=America/New_York:20251221T173000
DTEND;TZID=America/New_York:20251221T193000
DTSTAMP:20260424T060332
CREATED:20251120T193434Z
LAST-MODIFIED:20251120T193434Z
UID:10012001-1766338200-1766345400@downtowncolumbus.com
SUMMARY:The Nutcracker
DESCRIPTION:Get into the holiday spirit with the iconic ballet\, The Nutcracker.
URL:https://downtowncolumbus.com/event/the-nutcracker-2/2025-12-21/2/
LOCATION:Ohio Theatre\, 39 E State St\, Columbus\, OH\, 43215\, United States
CATEGORIES:Entertainment
ATTACH;FMTTYPE=image/jpeg:https://downtowncolumbus.com/wp-content/uploads/2025/11/F85A1073-975x650-1.jpg
GEO:39.960068;-82.99889
X-APPLE-STRUCTURED-LOCATION;VALUE=URI;X-ADDRESS=Ohio Theatre 39 E State St Columbus OH 43215 United States;X-APPLE-RADIUS=500;X-TITLE=39 E State St:geo:-82.99889,39.960068
END:VEVENT
BEGIN:VEVENT
DTSTART;TZID=America/New_York:20251221T120000
DTEND;TZID=America/New_York:20251221T140000
DTSTAMP:20260424T060332
CREATED:20251120T193434Z
LAST-MODIFIED:20251120T193434Z
UID:10012000-1766318400-1766325600@downtowncolumbus.com
SUMMARY:The Nutcracker
DESCRIPTION:Get into the holiday spirit with the iconic ballet\, The Nutcracker.
URL:https://downtowncolumbus.com/event/the-nutcracker-2/2025-12-21/1/
LOCATION:Ohio Theatre\, 39 E State St\, Columbus\, OH\, 43215\, United States
CATEGORIES:Entertainment
ATTACH;FMTTYPE=image/jpeg:https://downtowncolumbus.com/wp-content/uploads/2025/11/F85A1073-975x650-1.jpg
GEO:39.960068;-82.99889
X-APPLE-STRUCTURED-LOCATION;VALUE=URI;X-ADDRESS=Ohio Theatre 39 E State St Columbus OH 43215 United States;X-APPLE-RADIUS=500;X-TITLE=39 E State St:geo:-82.99889,39.960068
END:VEVENT
BEGIN:VEVENT
DTSTART;TZID=America/New_York:20251220T193000
DTEND;TZID=America/New_York:20251220T213000
DTSTAMP:20260424T060332
CREATED:20251120T193434Z
LAST-MODIFIED:20251120T193434Z
UID:10011999-1766259000-1766266200@downtowncolumbus.com
SUMMARY:The Nutcracker
DESCRIPTION:Get into the holiday spirit with the iconic ballet\, The Nutcracker.
URL:https://downtowncolumbus.com/event/the-nutcracker-2/2025-12-20/2/
LOCATION:Ohio Theatre\, 39 E State St\, Columbus\, OH\, 43215\, United States
CATEGORIES:Entertainment
ATTACH;FMTTYPE=image/jpeg:https://downtowncolumbus.com/wp-content/uploads/2025/11/F85A1073-975x650-1.jpg
GEO:39.960068;-82.99889
X-APPLE-STRUCTURED-LOCATION;VALUE=URI;X-ADDRESS=Ohio Theatre 39 E State St Columbus OH 43215 United States;X-APPLE-RADIUS=500;X-TITLE=39 E State St:geo:-82.99889,39.960068
END:VEVENT
BEGIN:VEVENT
DTSTART;TZID=America/New_York:20251220T140000
DTEND;TZID=America/New_York:20251220T160000
DTSTAMP:20260424T060332
CREATED:20251120T193434Z
LAST-MODIFIED:20251120T193434Z
UID:10011998-1766239200-1766246400@downtowncolumbus.com
SUMMARY:The Nutcracker
DESCRIPTION:Get into the holiday spirit with the iconic ballet\, The Nutcracker.
URL:https://downtowncolumbus.com/event/the-nutcracker-2/2025-12-20/1/
LOCATION:Ohio Theatre\, 39 E State St\, Columbus\, OH\, 43215\, United States
CATEGORIES:Entertainment
ATTACH;FMTTYPE=image/jpeg:https://downtowncolumbus.com/wp-content/uploads/2025/11/F85A1073-975x650-1.jpg
GEO:39.960068;-82.99889
X-APPLE-STRUCTURED-LOCATION;VALUE=URI;X-ADDRESS=Ohio Theatre 39 E State St Columbus OH 43215 United States;X-APPLE-RADIUS=500;X-TITLE=39 E State St:geo:-82.99889,39.960068
END:VEVENT
BEGIN:VEVENT
DTSTART;TZID=America/New_York:20251219T193000
DTEND;TZID=America/New_York:20251219T213000
DTSTAMP:20260424T060332
CREATED:20251120T193434Z
LAST-MODIFIED:20251120T193434Z
UID:10011997-1766172600-1766179800@downtowncolumbus.com
SUMMARY:The Nutcracker
DESCRIPTION:Get into the holiday spirit with the iconic ballet\, The Nutcracker.
URL:https://downtowncolumbus.com/event/the-nutcracker-2/2025-12-19/
LOCATION:Ohio Theatre\, 39 E State St\, Columbus\, OH\, 43215\, United States
CATEGORIES:Entertainment
ATTACH;FMTTYPE=image/jpeg:https://downtowncolumbus.com/wp-content/uploads/2025/11/F85A1073-975x650-1.jpg
GEO:39.960068;-82.99889
X-APPLE-STRUCTURED-LOCATION;VALUE=URI;X-ADDRESS=Ohio Theatre 39 E State St Columbus OH 43215 United States;X-APPLE-RADIUS=500;X-TITLE=39 E State St:geo:-82.99889,39.960068
END:VEVENT
BEGIN:VEVENT
DTSTART;TZID=America/New_York:20251218T193000
DTEND;TZID=America/New_York:20251218T213000
DTSTAMP:20260424T060332
CREATED:20251120T193434Z
LAST-MODIFIED:20251120T193434Z
UID:10011996-1766086200-1766093400@downtowncolumbus.com
SUMMARY:The Nutcracker
DESCRIPTION:Get into the holiday spirit with the iconic ballet\, The Nutcracker.
URL:https://downtowncolumbus.com/event/the-nutcracker-2/2025-12-18/
LOCATION:Ohio Theatre\, 39 E State St\, Columbus\, OH\, 43215\, United States
CATEGORIES:Entertainment
ATTACH;FMTTYPE=image/jpeg:https://downtowncolumbus.com/wp-content/uploads/2025/11/F85A1073-975x650-1.jpg
GEO:39.960068;-82.99889
X-APPLE-STRUCTURED-LOCATION;VALUE=URI;X-ADDRESS=Ohio Theatre 39 E State St Columbus OH 43215 United States;X-APPLE-RADIUS=500;X-TITLE=39 E State St:geo:-82.99889,39.960068
END:VEVENT
BEGIN:VEVENT
DTSTART;TZID=America/New_York:20251217T193000
DTEND;TZID=America/New_York:20251217T213000
DTSTAMP:20260424T060332
CREATED:20251120T193434Z
LAST-MODIFIED:20251120T193434Z
UID:10011995-1765999800-1766007000@downtowncolumbus.com
SUMMARY:The Nutcracker
DESCRIPTION:Get into the holiday spirit with the iconic ballet\, The Nutcracker.
URL:https://downtowncolumbus.com/event/the-nutcracker-2/2025-12-17/
LOCATION:Ohio Theatre\, 39 E State St\, Columbus\, OH\, 43215\, United States
CATEGORIES:Entertainment
ATTACH;FMTTYPE=image/jpeg:https://downtowncolumbus.com/wp-content/uploads/2025/11/F85A1073-975x650-1.jpg
GEO:39.960068;-82.99889
X-APPLE-STRUCTURED-LOCATION;VALUE=URI;X-ADDRESS=Ohio Theatre 39 E State St Columbus OH 43215 United States;X-APPLE-RADIUS=500;X-TITLE=39 E State St:geo:-82.99889,39.960068
END:VEVENT
BEGIN:VEVENT
DTSTART;TZID=America/New_York:20251216T193000
DTEND;TZID=America/New_York:20251216T213000
DTSTAMP:20260424T060332
CREATED:20251120T193434Z
LAST-MODIFIED:20251120T193434Z
UID:10011994-1765913400-1765920600@downtowncolumbus.com
SUMMARY:The Nutcracker
DESCRIPTION:Get into the holiday spirit with the iconic ballet\, The Nutcracker.
URL:https://downtowncolumbus.com/event/the-nutcracker-2/2025-12-16/
LOCATION:Ohio Theatre\, 39 E State St\, Columbus\, OH\, 43215\, United States
CATEGORIES:Entertainment
ATTACH;FMTTYPE=image/jpeg:https://downtowncolumbus.com/wp-content/uploads/2025/11/F85A1073-975x650-1.jpg
GEO:39.960068;-82.99889
X-APPLE-STRUCTURED-LOCATION;VALUE=URI;X-ADDRESS=Ohio Theatre 39 E State St Columbus OH 43215 United States;X-APPLE-RADIUS=500;X-TITLE=39 E State St:geo:-82.99889,39.960068
END:VEVENT
BEGIN:VEVENT
DTSTART;TZID=America/New_York:20251214T173000
DTEND;TZID=America/New_York:20251214T193000
DTSTAMP:20260424T060332
CREATED:20251120T193434Z
LAST-MODIFIED:20251120T193434Z
UID:10011993-1765733400-1765740600@downtowncolumbus.com
SUMMARY:The Nutcracker
DESCRIPTION:Get into the holiday spirit with the iconic ballet\, The Nutcracker.
URL:https://downtowncolumbus.com/event/the-nutcracker-2/2025-12-14/2/
LOCATION:Ohio Theatre\, 39 E State St\, Columbus\, OH\, 43215\, United States
CATEGORIES:Entertainment
ATTACH;FMTTYPE=image/jpeg:https://downtowncolumbus.com/wp-content/uploads/2025/11/F85A1073-975x650-1.jpg
GEO:39.960068;-82.99889
X-APPLE-STRUCTURED-LOCATION;VALUE=URI;X-ADDRESS=Ohio Theatre 39 E State St Columbus OH 43215 United States;X-APPLE-RADIUS=500;X-TITLE=39 E State St:geo:-82.99889,39.960068
END:VEVENT
BEGIN:VEVENT
DTSTART;TZID=America/New_York:20251214T120000
DTEND;TZID=America/New_York:20251214T140000
DTSTAMP:20260424T060332
CREATED:20251120T193434Z
LAST-MODIFIED:20251120T193434Z
UID:10011992-1765713600-1765720800@downtowncolumbus.com
SUMMARY:The Nutcracker
DESCRIPTION:Get into the holiday spirit with the iconic ballet\, The Nutcracker.
URL:https://downtowncolumbus.com/event/the-nutcracker-2/2025-12-14/1/
LOCATION:Ohio Theatre\, 39 E State St\, Columbus\, OH\, 43215\, United States
CATEGORIES:Entertainment
ATTACH;FMTTYPE=image/jpeg:https://downtowncolumbus.com/wp-content/uploads/2025/11/F85A1073-975x650-1.jpg
GEO:39.960068;-82.99889
X-APPLE-STRUCTURED-LOCATION;VALUE=URI;X-ADDRESS=Ohio Theatre 39 E State St Columbus OH 43215 United States;X-APPLE-RADIUS=500;X-TITLE=39 E State St:geo:-82.99889,39.960068
END:VEVENT
BEGIN:VEVENT
DTSTART;TZID=America/New_York:20251213T173000
DTEND;TZID=America/New_York:20251213T190000
DTSTAMP:20260424T060332
CREATED:20251120T193434Z
LAST-MODIFIED:20251120T193434Z
UID:10011991-1765647000-1765652400@downtowncolumbus.com
SUMMARY:The Nutcracker
DESCRIPTION:Get into the holiday spirit with the iconic ballet\, The Nutcracker.
URL:https://downtowncolumbus.com/event/the-nutcracker-2/2025-12-13/2/
LOCATION:Ohio Theatre\, 39 E State St\, Columbus\, OH\, 43215\, United States
CATEGORIES:Entertainment
ATTACH;FMTTYPE=image/jpeg:https://downtowncolumbus.com/wp-content/uploads/2025/11/F85A1073-975x650-1.jpg
GEO:39.960068;-82.99889
X-APPLE-STRUCTURED-LOCATION;VALUE=URI;X-ADDRESS=Ohio Theatre 39 E State St Columbus OH 43215 United States;X-APPLE-RADIUS=500;X-TITLE=39 E State St:geo:-82.99889,39.960068
END:VEVENT
BEGIN:VEVENT
DTSTART;TZID=America/New_York:20251213T120000
DTEND;TZID=America/New_York:20251213T140000
DTSTAMP:20260424T060332
CREATED:20251120T193434Z
LAST-MODIFIED:20251120T193434Z
UID:10011990-1765627200-1765634400@downtowncolumbus.com
SUMMARY:The Nutcracker
DESCRIPTION:Get into the holiday spirit with the iconic ballet\, The Nutcracker.
URL:https://downtowncolumbus.com/event/the-nutcracker-2/2025-12-13/1/
LOCATION:Ohio Theatre\, 39 E State St\, Columbus\, OH\, 43215\, United States
CATEGORIES:Entertainment
ATTACH;FMTTYPE=image/jpeg:https://downtowncolumbus.com/wp-content/uploads/2025/11/F85A1073-975x650-1.jpg
GEO:39.960068;-82.99889
X-APPLE-STRUCTURED-LOCATION;VALUE=URI;X-ADDRESS=Ohio Theatre 39 E State St Columbus OH 43215 United States;X-APPLE-RADIUS=500;X-TITLE=39 E State St:geo:-82.99889,39.960068
END:VEVENT
BEGIN:VEVENT
DTSTART;TZID=America/New_York:20251212T193000
DTEND;TZID=America/New_York:20251212T213000
DTSTAMP:20260424T060332
CREATED:20251120T193434Z
LAST-MODIFIED:20251120T193434Z
UID:10011989-1765567800-1765575000@downtowncolumbus.com
SUMMARY:The Nutcracker
DESCRIPTION:Get into the holiday spirit with the iconic ballet\, The Nutcracker.
URL:https://downtowncolumbus.com/event/the-nutcracker-2/2025-12-12/
LOCATION:Ohio Theatre\, 39 E State St\, Columbus\, OH\, 43215\, United States
CATEGORIES:Entertainment
ATTACH;FMTTYPE=image/jpeg:https://downtowncolumbus.com/wp-content/uploads/2025/11/F85A1073-975x650-1.jpg
GEO:39.960068;-82.99889
X-APPLE-STRUCTURED-LOCATION;VALUE=URI;X-ADDRESS=Ohio Theatre 39 E State St Columbus OH 43215 United States;X-APPLE-RADIUS=500;X-TITLE=39 E State St:geo:-82.99889,39.960068
END:VEVENT
BEGIN:VEVENT
DTSTART;TZID=America/New_York:20251211T193000
DTEND;TZID=America/New_York:20251211T213000
DTSTAMP:20260424T060332
CREATED:20251120T193434Z
LAST-MODIFIED:20251120T193434Z
UID:10011988-1765481400-1765488600@downtowncolumbus.com
SUMMARY:The Nutcracker
DESCRIPTION:Get into the holiday spirit with the iconic ballet\, The Nutcracker.
URL:https://downtowncolumbus.com/event/the-nutcracker-2/2025-12-11/
LOCATION:Ohio Theatre\, 39 E State St\, Columbus\, OH\, 43215\, United States
CATEGORIES:Entertainment
ATTACH;FMTTYPE=image/jpeg:https://downtowncolumbus.com/wp-content/uploads/2025/11/F85A1073-975x650-1.jpg
GEO:39.960068;-82.99889
X-APPLE-STRUCTURED-LOCATION;VALUE=URI;X-ADDRESS=Ohio Theatre 39 E State St Columbus OH 43215 United States;X-APPLE-RADIUS=500;X-TITLE=39 E State St:geo:-82.99889,39.960068
END:VEVENT
BEGIN:VEVENT
DTSTART;TZID=America/New_York:20250614T193000
DTEND;TZID=America/New_York:20250614T193000
DTSTAMP:20260424T060332
CREATED:20241126T171532Z
LAST-MODIFIED:20241126T171620Z
UID:10003300-1749929400-1749929400@downtowncolumbus.com
SUMMARY:BalletMet: Black Voices
DESCRIPTION:Experience a vibrant collection of three innovative ballets. Ulysses Dove’s Red Angels returns\, along with two world premieres from Dwight Rhoden and Jennifer Archibald. This show guarantees an evening packed with captivating movement and inventive storytelling.  \nGet Tickets Here
URL:https://downtowncolumbus.com/event/balletmet-black-voices-6/
LOCATION:JoAnn Davidson Theatre at the Vern Riffe Center\, 77 S High St\, Columbus\, OH\, United States
CATEGORIES:Arts & Culture,Entertainment
ATTACH;FMTTYPE=image/png:https://downtowncolumbus.com/wp-content/uploads/2024/11/24-25_WebShowImage_2560x1233-BlackVoices_V2-940x475-1.png
GEO:39.9606364;-83.0009691
X-APPLE-STRUCTURED-LOCATION;VALUE=URI;X-ADDRESS=JoAnn Davidson Theatre at the Vern Riffe Center 77 S High St Columbus OH United States;X-APPLE-RADIUS=500;X-TITLE=77 S High St:geo:-83.0009691,39.9606364
END:VEVENT
BEGIN:VEVENT
DTSTART;TZID=America/New_York:20250613T193000
DTEND;TZID=America/New_York:20250613T193000
DTSTAMP:20260424T060332
CREATED:20241126T171524Z
LAST-MODIFIED:20241126T171608Z
UID:10003296-1749843000-1749843000@downtowncolumbus.com
SUMMARY:BalletMet: Black Voices
DESCRIPTION:Experience a vibrant collection of three innovative ballets. Ulysses Dove’s Red Angels returns\, along with two world premieres from Dwight Rhoden and Jennifer Archibald. This show guarantees an evening packed with captivating movement and inventive storytelling.  \nGet Tickets Here
URL:https://downtowncolumbus.com/event/balletmet-black-voices-5/
LOCATION:JoAnn Davidson Theatre at the Vern Riffe Center\, 77 S High St\, Columbus\, OH\, United States
CATEGORIES:Arts & Culture,Entertainment
ATTACH;FMTTYPE=image/png:https://downtowncolumbus.com/wp-content/uploads/2024/11/24-25_WebShowImage_2560x1233-BlackVoices_V2-940x475-1.png
GEO:39.9606364;-83.0009691
X-APPLE-STRUCTURED-LOCATION;VALUE=URI;X-ADDRESS=JoAnn Davidson Theatre at the Vern Riffe Center 77 S High St Columbus OH United States;X-APPLE-RADIUS=500;X-TITLE=77 S High St:geo:-83.0009691,39.9606364
END:VEVENT
BEGIN:VEVENT
DTSTART;TZID=America/New_York:20250612T193000
DTEND;TZID=America/New_York:20250612T193000
DTSTAMP:20260424T060332
CREATED:20241126T171354Z
LAST-MODIFIED:20241126T171605Z
UID:10003299-1749756600-1749756600@downtowncolumbus.com
SUMMARY:BalletMet: Black Voices
DESCRIPTION:Experience a vibrant collection of three innovative ballets. Ulysses Dove’s Red Angels returns\, along with two world premieres from Dwight Rhoden and Jennifer Archibald. This show guarantees an evening packed with captivating movement and inventive storytelling.  \nGet Tickets Here
URL:https://downtowncolumbus.com/event/balletmet-black-voices-4/
LOCATION:JoAnn Davidson Theatre at the Vern Riffe Center\, 77 S High St\, Columbus\, OH\, United States
CATEGORIES:Arts & Culture,Entertainment
ATTACH;FMTTYPE=image/png:https://downtowncolumbus.com/wp-content/uploads/2024/11/24-25_WebShowImage_2560x1233-BlackVoices_V2-940x475-1.png
GEO:39.9606364;-83.0009691
X-APPLE-STRUCTURED-LOCATION;VALUE=URI;X-ADDRESS=JoAnn Davidson Theatre at the Vern Riffe Center 77 S High St Columbus OH United States;X-APPLE-RADIUS=500;X-TITLE=77 S High St:geo:-83.0009691,39.9606364
END:VEVENT
BEGIN:VEVENT
DTSTART;TZID=America/New_York:20250608T140000
DTEND;TZID=America/New_York:20250608T140000
DTSTAMP:20260424T060332
CREATED:20241126T171243Z
LAST-MODIFIED:20241126T171554Z
UID:10003298-1749391200-1749391200@downtowncolumbus.com
SUMMARY:BalletMet: Black Voices
DESCRIPTION:Experience a vibrant collection of three innovative ballets. Ulysses Dove’s Red Angels returns\, along with two world premieres from Dwight Rhoden and Jennifer Archibald. This show guarantees an evening packed with captivating movement and inventive storytelling.  \nGet Tickets Here
URL:https://downtowncolumbus.com/event/balletmet-black-voices-3/
LOCATION:JoAnn Davidson Theatre at the Vern Riffe Center\, 77 S High St\, Columbus\, OH\, United States
CATEGORIES:Arts & Culture,Entertainment
ATTACH;FMTTYPE=image/png:https://downtowncolumbus.com/wp-content/uploads/2024/11/24-25_WebShowImage_2560x1233-BlackVoices_V2-940x475-1.png
GEO:39.9606364;-83.0009691
X-APPLE-STRUCTURED-LOCATION;VALUE=URI;X-ADDRESS=JoAnn Davidson Theatre at the Vern Riffe Center 77 S High St Columbus OH United States;X-APPLE-RADIUS=500;X-TITLE=77 S High St:geo:-83.0009691,39.9606364
END:VEVENT
BEGIN:VEVENT
DTSTART;TZID=America/New_York:20250607T193000
DTEND;TZID=America/New_York:20250607T193000
DTSTAMP:20260424T060332
CREATED:20241126T171213Z
LAST-MODIFIED:20241126T171549Z
UID:10003295-1749324600-1749324600@downtowncolumbus.com
SUMMARY:BalletMet: Black Voices
DESCRIPTION:Experience a vibrant collection of three innovative ballets. Ulysses Dove’s Red Angels returns\, along with two world premieres from Dwight Rhoden and Jennifer Archibald. This show guarantees an evening packed with captivating movement and inventive storytelling.  \nGet Tickets Here
URL:https://downtowncolumbus.com/event/balletmet-black-voices-2/
LOCATION:JoAnn Davidson Theatre at the Vern Riffe Center\, 77 S High St\, Columbus\, OH\, United States
CATEGORIES:Arts & Culture,Entertainment
ATTACH;FMTTYPE=image/png:https://downtowncolumbus.com/wp-content/uploads/2024/11/24-25_WebShowImage_2560x1233-BlackVoices_V2-940x475-1.png
GEO:39.9606364;-83.0009691
X-APPLE-STRUCTURED-LOCATION;VALUE=URI;X-ADDRESS=JoAnn Davidson Theatre at the Vern Riffe Center 77 S High St Columbus OH United States;X-APPLE-RADIUS=500;X-TITLE=77 S High St:geo:-83.0009691,39.9606364
END:VEVENT
BEGIN:VEVENT
DTSTART;TZID=America/New_York:20250606T193000
DTEND;TZID=America/New_York:20250606T193000
DTSTAMP:20260424T060332
CREATED:20241126T170942Z
LAST-MODIFIED:20241126T171541Z
UID:10003297-1749238200-1749238200@downtowncolumbus.com
SUMMARY:BalletMet: Black Voices
DESCRIPTION:Experience a vibrant collection of three innovative ballets. Ulysses Dove’s Red Angels returns\, along with two world premieres from Dwight Rhoden and Jennifer Archibald. This show guarantees an evening packed with captivating movement and inventive storytelling.  \nGet Tickets Here
URL:https://downtowncolumbus.com/event/balletmet-black-voices/
LOCATION:JoAnn Davidson Theatre at the Vern Riffe Center\, 77 S High St\, Columbus\, OH\, United States
CATEGORIES:Arts & Culture,Entertainment
ATTACH;FMTTYPE=image/png:https://downtowncolumbus.com/wp-content/uploads/2024/11/24-25_WebShowImage_2560x1233-BlackVoices_V2-940x475-1.png
GEO:39.9606364;-83.0009691
X-APPLE-STRUCTURED-LOCATION;VALUE=URI;X-ADDRESS=JoAnn Davidson Theatre at the Vern Riffe Center 77 S High St Columbus OH United States;X-APPLE-RADIUS=500;X-TITLE=77 S High St:geo:-83.0009691,39.9606364
END:VEVENT
BEGIN:VEVENT
DTSTART;TZID=America/New_York:20250504T173000
DTEND;TZID=America/New_York:20250504T173000
DTSTAMP:20260424T060332
CREATED:20241126T170229Z
LAST-MODIFIED:20241126T170245Z
UID:10003294-1746379800-1746379800@downtowncolumbus.com
SUMMARY:BalletMet: Sleeping Beauty
DESCRIPTION:Experience the timeless tale of Princess Aurora’s 100-year slumber\, which can only be broken by a prince’s kiss.  \n  \nGet Tickets Here
URL:https://downtowncolumbus.com/event/balletmet-sleeping-beauty-5/
LOCATION:Ohio Theatre\, 39 E State St\, Columbus\, OH\, 43215\, United States
CATEGORIES:Arts & Culture,Entertainment
ATTACH;FMTTYPE=image/png:https://downtowncolumbus.com/wp-content/uploads/2024/11/Sleeping-Beauty-Header-e1707928415116-940x475-1.png
GEO:39.960068;-82.99889
X-APPLE-STRUCTURED-LOCATION;VALUE=URI;X-ADDRESS=Ohio Theatre 39 E State St Columbus OH 43215 United States;X-APPLE-RADIUS=500;X-TITLE=39 E State St:geo:-82.99889,39.960068
END:VEVENT
END:VCALENDAR