BEGIN:VCALENDAR
VERSION:2.0
PRODID:-//Downtown Columbus - ECPv6.15.20//NONSGML v1.0//EN
CALSCALE:GREGORIAN
METHOD:PUBLISH
X-ORIGINAL-URL:https://downtowncolumbus.com
X-WR-CALDESC:Events for Downtown Columbus
REFRESH-INTERVAL;VALUE=DURATION:PT1H
X-Robots-Tag:noindex
X-PUBLISHED-TTL:PT1H
BEGIN:VTIMEZONE
TZID:America/New_York
BEGIN:DAYLIGHT
TZOFFSETFROM:-0500
TZOFFSETTO:-0400
TZNAME:EDT
DTSTART:20260308T070000
END:DAYLIGHT
BEGIN:STANDARD
TZOFFSETFROM:-0400
TZOFFSETTO:-0500
TZNAME:EST
DTSTART:20261101T060000
END:STANDARD
BEGIN:DAYLIGHT
TZOFFSETFROM:-0500
TZOFFSETTO:-0400
TZNAME:EDT
DTSTART:20270314T070000
END:DAYLIGHT
BEGIN:STANDARD
TZOFFSETFROM:-0400
TZOFFSETTO:-0500
TZNAME:EST
DTSTART:20271107T060000
END:STANDARD
BEGIN:DAYLIGHT
TZOFFSETFROM:-0500
TZOFFSETTO:-0400
TZNAME:EDT
DTSTART:20280312T070000
END:DAYLIGHT
BEGIN:STANDARD
TZOFFSETFROM:-0400
TZOFFSETTO:-0500
TZNAME:EST
DTSTART:20281105T060000
END:STANDARD
END:VTIMEZONE
BEGIN:VEVENT
DTSTART;TZID=America/New_York:20271002T180000
DTEND;TZID=America/New_York:20271002T210000
DTSTAMP:20260421T011952
CREATED:20251215T220350Z
LAST-MODIFIED:20251215T220350Z
UID:10012323-1822500000-1822510800@downtowncolumbus.com
SUMMARY:The Dinner Detective Murder Mystery Dinner Show
DESCRIPTION:America’s LARGEST interactive true crime mystery dinner show is now playing in Columbus\, OH! \nAt The Dinner Detective Murder Mystery Dinner Show\, you’ll tackle a challenging crime while you feast on a fantastic dinner. Just beware! The criminal is lurking somewhere in the room\, and you may find yourself as a Prime Suspect before you know it! \nEach admission includes our fantastic dinner\, mystery entertainment\, wait staff gratuity\, prize package for Top Sleuth\, and much more!
URL:https://downtowncolumbus.com/event/the-dinner-detective-murder-mystery-dinner-show-6/2027-10-02/
LOCATION:Plaza Hotel Columbus at Capitol Square\, 75 E State Street\, Columbus\, 43215\, United States
CATEGORIES:Entertainment
ATTACH;FMTTYPE=image/jpeg:https://downtowncolumbus.com/wp-content/uploads/2025/12/124180.jpg
ORGANIZER;CN="The Dinner Detective Columbus":MAILTO:cbs.info@thedinnerdetective.com
END:VEVENT
BEGIN:VEVENT
DTSTART;TZID=America/New_York:20271006T060000
DTEND;TZID=America/New_York:20271006T080000
DTSTAMP:20260421T011952
CREATED:20250319T131241Z
LAST-MODIFIED:20250319T131241Z
UID:10004747-1822802400-1822809600@downtowncolumbus.com
SUMMARY:November Project Scioto Mile Free Workout
DESCRIPTION:November Project is a free outside fitness group that started in Boston in 2011 to break down barriers to movement! Now in 53 cities around the globe\, we create free\, fun\, scalable (adjustable to your fitness level) workouts for all ages – and doggos! \nOur workout starts at 6:14a every Wednesday morning in Genoa Park on the Scioto Mile (on the steps behind COSI). We work out for 45 minutes together until 7am\, then walk down to One Line Coffee to hang out before work! \nCome join us if you’re an off-the-couch fitness newbie\, a runner looking to cross-train\, or any fitness level in between\, we’d love to see you!
URL:https://downtowncolumbus.com/event/november-project-scioto-mile-free-workout/2027-10-06/
LOCATION:Genoa Park\, 303 W Broad St\, Columbus\, OH\, United States
CATEGORIES:Parks
ATTACH;FMTTYPE=image/png:https://downtowncolumbus.com/wp-content/uploads/2025/03/Screenshot_20250318-230146.png
ORGANIZER;CN="November Project Scioto Mile":MAILTO:sciotomile@november-project.com
GEO:39.9598672;-83.0054187
X-APPLE-STRUCTURED-LOCATION;VALUE=URI;X-ADDRESS=Genoa Park 303 W Broad St Columbus OH United States;X-APPLE-RADIUS=500;X-TITLE=303 W Broad St:geo:-83.0054187,39.9598672
END:VEVENT
BEGIN:VEVENT
DTSTART;TZID=America/New_York:20271009T180000
DTEND;TZID=America/New_York:20271009T210000
DTSTAMP:20260421T011952
CREATED:20251215T220350Z
LAST-MODIFIED:20251215T220350Z
UID:10012324-1823104800-1823115600@downtowncolumbus.com
SUMMARY:The Dinner Detective Murder Mystery Dinner Show
DESCRIPTION:America’s LARGEST interactive true crime mystery dinner show is now playing in Columbus\, OH! \nAt The Dinner Detective Murder Mystery Dinner Show\, you’ll tackle a challenging crime while you feast on a fantastic dinner. Just beware! The criminal is lurking somewhere in the room\, and you may find yourself as a Prime Suspect before you know it! \nEach admission includes our fantastic dinner\, mystery entertainment\, wait staff gratuity\, prize package for Top Sleuth\, and much more!
URL:https://downtowncolumbus.com/event/the-dinner-detective-murder-mystery-dinner-show-6/2027-10-09/
LOCATION:Plaza Hotel Columbus at Capitol Square\, 75 E State Street\, Columbus\, 43215\, United States
CATEGORIES:Entertainment
ATTACH;FMTTYPE=image/jpeg:https://downtowncolumbus.com/wp-content/uploads/2025/12/124180.jpg
ORGANIZER;CN="The Dinner Detective Columbus":MAILTO:cbs.info@thedinnerdetective.com
END:VEVENT
BEGIN:VEVENT
DTSTART;TZID=America/New_York:20271013T060000
DTEND;TZID=America/New_York:20271013T080000
DTSTAMP:20260421T011952
CREATED:20250319T131241Z
LAST-MODIFIED:20250319T131241Z
UID:10004748-1823407200-1823414400@downtowncolumbus.com
SUMMARY:November Project Scioto Mile Free Workout
DESCRIPTION:November Project is a free outside fitness group that started in Boston in 2011 to break down barriers to movement! Now in 53 cities around the globe\, we create free\, fun\, scalable (adjustable to your fitness level) workouts for all ages – and doggos! \nOur workout starts at 6:14a every Wednesday morning in Genoa Park on the Scioto Mile (on the steps behind COSI). We work out for 45 minutes together until 7am\, then walk down to One Line Coffee to hang out before work! \nCome join us if you’re an off-the-couch fitness newbie\, a runner looking to cross-train\, or any fitness level in between\, we’d love to see you!
URL:https://downtowncolumbus.com/event/november-project-scioto-mile-free-workout/2027-10-13/
LOCATION:Genoa Park\, 303 W Broad St\, Columbus\, OH\, United States
CATEGORIES:Parks
ATTACH;FMTTYPE=image/png:https://downtowncolumbus.com/wp-content/uploads/2025/03/Screenshot_20250318-230146.png
ORGANIZER;CN="November Project Scioto Mile":MAILTO:sciotomile@november-project.com
GEO:39.9598672;-83.0054187
X-APPLE-STRUCTURED-LOCATION;VALUE=URI;X-ADDRESS=Genoa Park 303 W Broad St Columbus OH United States;X-APPLE-RADIUS=500;X-TITLE=303 W Broad St:geo:-83.0054187,39.9598672
END:VEVENT
BEGIN:VEVENT
DTSTART;TZID=America/New_York:20271016T180000
DTEND;TZID=America/New_York:20271016T210000
DTSTAMP:20260421T011952
CREATED:20251215T220350Z
LAST-MODIFIED:20251215T220350Z
UID:10012325-1823709600-1823720400@downtowncolumbus.com
SUMMARY:The Dinner Detective Murder Mystery Dinner Show
DESCRIPTION:America’s LARGEST interactive true crime mystery dinner show is now playing in Columbus\, OH! \nAt The Dinner Detective Murder Mystery Dinner Show\, you’ll tackle a challenging crime while you feast on a fantastic dinner. Just beware! The criminal is lurking somewhere in the room\, and you may find yourself as a Prime Suspect before you know it! \nEach admission includes our fantastic dinner\, mystery entertainment\, wait staff gratuity\, prize package for Top Sleuth\, and much more!
URL:https://downtowncolumbus.com/event/the-dinner-detective-murder-mystery-dinner-show-6/2027-10-16/
LOCATION:Plaza Hotel Columbus at Capitol Square\, 75 E State Street\, Columbus\, 43215\, United States
CATEGORIES:Entertainment
ATTACH;FMTTYPE=image/jpeg:https://downtowncolumbus.com/wp-content/uploads/2025/12/124180.jpg
ORGANIZER;CN="The Dinner Detective Columbus":MAILTO:cbs.info@thedinnerdetective.com
END:VEVENT
BEGIN:VEVENT
DTSTART;TZID=America/New_York:20271020T060000
DTEND;TZID=America/New_York:20271020T080000
DTSTAMP:20260421T011952
CREATED:20250319T131241Z
LAST-MODIFIED:20250319T131241Z
UID:10004749-1824012000-1824019200@downtowncolumbus.com
SUMMARY:November Project Scioto Mile Free Workout
DESCRIPTION:November Project is a free outside fitness group that started in Boston in 2011 to break down barriers to movement! Now in 53 cities around the globe\, we create free\, fun\, scalable (adjustable to your fitness level) workouts for all ages – and doggos! \nOur workout starts at 6:14a every Wednesday morning in Genoa Park on the Scioto Mile (on the steps behind COSI). We work out for 45 minutes together until 7am\, then walk down to One Line Coffee to hang out before work! \nCome join us if you’re an off-the-couch fitness newbie\, a runner looking to cross-train\, or any fitness level in between\, we’d love to see you!
URL:https://downtowncolumbus.com/event/november-project-scioto-mile-free-workout/2027-10-20/
LOCATION:Genoa Park\, 303 W Broad St\, Columbus\, OH\, United States
CATEGORIES:Parks
ATTACH;FMTTYPE=image/png:https://downtowncolumbus.com/wp-content/uploads/2025/03/Screenshot_20250318-230146.png
ORGANIZER;CN="November Project Scioto Mile":MAILTO:sciotomile@november-project.com
GEO:39.9598672;-83.0054187
X-APPLE-STRUCTURED-LOCATION;VALUE=URI;X-ADDRESS=Genoa Park 303 W Broad St Columbus OH United States;X-APPLE-RADIUS=500;X-TITLE=303 W Broad St:geo:-83.0054187,39.9598672
END:VEVENT
BEGIN:VEVENT
DTSTART;TZID=America/New_York:20271023T180000
DTEND;TZID=America/New_York:20271023T210000
DTSTAMP:20260421T011952
CREATED:20251215T220350Z
LAST-MODIFIED:20251215T220350Z
UID:10012326-1824314400-1824325200@downtowncolumbus.com
SUMMARY:The Dinner Detective Murder Mystery Dinner Show
DESCRIPTION:America’s LARGEST interactive true crime mystery dinner show is now playing in Columbus\, OH! \nAt The Dinner Detective Murder Mystery Dinner Show\, you’ll tackle a challenging crime while you feast on a fantastic dinner. Just beware! The criminal is lurking somewhere in the room\, and you may find yourself as a Prime Suspect before you know it! \nEach admission includes our fantastic dinner\, mystery entertainment\, wait staff gratuity\, prize package for Top Sleuth\, and much more!
URL:https://downtowncolumbus.com/event/the-dinner-detective-murder-mystery-dinner-show-6/2027-10-23/
LOCATION:Plaza Hotel Columbus at Capitol Square\, 75 E State Street\, Columbus\, 43215\, United States
CATEGORIES:Entertainment
ATTACH;FMTTYPE=image/jpeg:https://downtowncolumbus.com/wp-content/uploads/2025/12/124180.jpg
ORGANIZER;CN="The Dinner Detective Columbus":MAILTO:cbs.info@thedinnerdetective.com
END:VEVENT
BEGIN:VEVENT
DTSTART;TZID=America/New_York:20271027T060000
DTEND;TZID=America/New_York:20271027T080000
DTSTAMP:20260421T011952
CREATED:20250319T131241Z
LAST-MODIFIED:20250319T131241Z
UID:10004750-1824616800-1824624000@downtowncolumbus.com
SUMMARY:November Project Scioto Mile Free Workout
DESCRIPTION:November Project is a free outside fitness group that started in Boston in 2011 to break down barriers to movement! Now in 53 cities around the globe\, we create free\, fun\, scalable (adjustable to your fitness level) workouts for all ages – and doggos! \nOur workout starts at 6:14a every Wednesday morning in Genoa Park on the Scioto Mile (on the steps behind COSI). We work out for 45 minutes together until 7am\, then walk down to One Line Coffee to hang out before work! \nCome join us if you’re an off-the-couch fitness newbie\, a runner looking to cross-train\, or any fitness level in between\, we’d love to see you!
URL:https://downtowncolumbus.com/event/november-project-scioto-mile-free-workout/2027-10-27/
LOCATION:Genoa Park\, 303 W Broad St\, Columbus\, OH\, United States
CATEGORIES:Parks
ATTACH;FMTTYPE=image/png:https://downtowncolumbus.com/wp-content/uploads/2025/03/Screenshot_20250318-230146.png
ORGANIZER;CN="November Project Scioto Mile":MAILTO:sciotomile@november-project.com
GEO:39.9598672;-83.0054187
X-APPLE-STRUCTURED-LOCATION;VALUE=URI;X-ADDRESS=Genoa Park 303 W Broad St Columbus OH United States;X-APPLE-RADIUS=500;X-TITLE=303 W Broad St:geo:-83.0054187,39.9598672
END:VEVENT
BEGIN:VEVENT
DTSTART;TZID=America/New_York:20271030T180000
DTEND;TZID=America/New_York:20271030T210000
DTSTAMP:20260421T011952
CREATED:20251215T220350Z
LAST-MODIFIED:20251215T220350Z
UID:10012327-1824919200-1824930000@downtowncolumbus.com
SUMMARY:The Dinner Detective Murder Mystery Dinner Show
DESCRIPTION:America’s LARGEST interactive true crime mystery dinner show is now playing in Columbus\, OH! \nAt The Dinner Detective Murder Mystery Dinner Show\, you’ll tackle a challenging crime while you feast on a fantastic dinner. Just beware! The criminal is lurking somewhere in the room\, and you may find yourself as a Prime Suspect before you know it! \nEach admission includes our fantastic dinner\, mystery entertainment\, wait staff gratuity\, prize package for Top Sleuth\, and much more!
URL:https://downtowncolumbus.com/event/the-dinner-detective-murder-mystery-dinner-show-6/2027-10-30/
LOCATION:Plaza Hotel Columbus at Capitol Square\, 75 E State Street\, Columbus\, 43215\, United States
CATEGORIES:Entertainment
ATTACH;FMTTYPE=image/jpeg:https://downtowncolumbus.com/wp-content/uploads/2025/12/124180.jpg
ORGANIZER;CN="The Dinner Detective Columbus":MAILTO:cbs.info@thedinnerdetective.com
END:VEVENT
END:VCALENDAR