BEGIN:VCALENDAR
VERSION:2.0
PRODID:-//Downtown Columbus - ECPv6.15.20//NONSGML v1.0//EN
CALSCALE:GREGORIAN
METHOD:PUBLISH
X-WR-CALNAME:Downtown Columbus
X-ORIGINAL-URL:https://downtowncolumbus.com
X-WR-CALDESC:Events for Downtown Columbus
REFRESH-INTERVAL;VALUE=DURATION:PT1H
X-Robots-Tag:noindex
X-PUBLISHED-TTL:PT1H
BEGIN:VTIMEZONE
TZID:America/New_York
BEGIN:DAYLIGHT
TZOFFSETFROM:-0500
TZOFFSETTO:-0400
TZNAME:EDT
DTSTART:20250309T070000
END:DAYLIGHT
BEGIN:STANDARD
TZOFFSETFROM:-0400
TZOFFSETTO:-0500
TZNAME:EST
DTSTART:20251102T060000
END:STANDARD
BEGIN:DAYLIGHT
TZOFFSETFROM:-0500
TZOFFSETTO:-0400
TZNAME:EDT
DTSTART:20260308T070000
END:DAYLIGHT
BEGIN:STANDARD
TZOFFSETFROM:-0400
TZOFFSETTO:-0500
TZNAME:EST
DTSTART:20261101T060000
END:STANDARD
BEGIN:DAYLIGHT
TZOFFSETFROM:-0500
TZOFFSETTO:-0400
TZNAME:EDT
DTSTART:20270314T070000
END:DAYLIGHT
BEGIN:STANDARD
TZOFFSETFROM:-0400
TZOFFSETTO:-0500
TZNAME:EST
DTSTART:20271107T060000
END:STANDARD
END:VTIMEZONE
BEGIN:VEVENT
DTSTART;TZID=America/New_York:20260628T130000
DTEND;TZID=America/New_York:20260628T150000
DTSTAMP:20260419T082836
CREATED:20260319T130938Z
LAST-MODIFIED:20260319T130938Z
UID:10013380-1782651600-1782658800@downtowncolumbus.com
SUMMARY:Art in the Park
DESCRIPTION:New this year! Learn a craft and enjoy a coffee every month at this brand-new series. The series will include crafts such as terrarium building\, painting\, suncatcher making\, etc.\, all in the scenic Topiary Park. More info to come!
URL:https://downtowncolumbus.com/event/art-in-the-park/2026-06-28/
LOCATION:Topiary Park\, 480 E Town St\, Columbus\, OH\, 43215\, United States
CATEGORIES:Arts & Culture
ATTACH;FMTTYPE=image/jpeg:https://downtowncolumbus.com/wp-content/uploads/2024/03/Robb-McCormick-Photography-11-of-109-scaled.jpg
GEO:39.9611761;-82.9874507
X-APPLE-STRUCTURED-LOCATION;VALUE=URI;X-ADDRESS=Topiary Park 480 E Town St Columbus OH 43215 United States;X-APPLE-RADIUS=500;X-TITLE=480 E Town St:geo:-82.9874507,39.9611761
END:VEVENT
BEGIN:VEVENT
DTSTART;TZID=America/New_York:20260726T130000
DTEND;TZID=America/New_York:20260726T150000
DTSTAMP:20260419T082836
CREATED:20260319T130938Z
LAST-MODIFIED:20260319T130938Z
UID:10013381-1785070800-1785078000@downtowncolumbus.com
SUMMARY:Art in the Park
DESCRIPTION:New this year! Learn a craft and enjoy a coffee every month at this brand-new series. The series will include crafts such as terrarium building\, painting\, suncatcher making\, etc.\, all in the scenic Topiary Park. More info to come!
URL:https://downtowncolumbus.com/event/art-in-the-park/2026-07-26/
LOCATION:Topiary Park\, 480 E Town St\, Columbus\, OH\, 43215\, United States
CATEGORIES:Arts & Culture
ATTACH;FMTTYPE=image/jpeg:https://downtowncolumbus.com/wp-content/uploads/2024/03/Robb-McCormick-Photography-11-of-109-scaled.jpg
GEO:39.9611761;-82.9874507
X-APPLE-STRUCTURED-LOCATION;VALUE=URI;X-ADDRESS=Topiary Park 480 E Town St Columbus OH 43215 United States;X-APPLE-RADIUS=500;X-TITLE=480 E Town St:geo:-82.9874507,39.9611761
END:VEVENT
BEGIN:VEVENT
DTSTART;TZID=America/New_York:20260830T130000
DTEND;TZID=America/New_York:20260830T150000
DTSTAMP:20260419T082836
CREATED:20260319T130938Z
LAST-MODIFIED:20260319T130938Z
UID:10013382-1788094800-1788102000@downtowncolumbus.com
SUMMARY:Art in the Park
DESCRIPTION:New this year! Learn a craft and enjoy a coffee every month at this brand-new series. The series will include crafts such as terrarium building\, painting\, suncatcher making\, etc.\, all in the scenic Topiary Park. More info to come!
URL:https://downtowncolumbus.com/event/art-in-the-park/2026-08-30/
LOCATION:Topiary Park\, 480 E Town St\, Columbus\, OH\, 43215\, United States
CATEGORIES:Arts & Culture
ATTACH;FMTTYPE=image/jpeg:https://downtowncolumbus.com/wp-content/uploads/2024/03/Robb-McCormick-Photography-11-of-109-scaled.jpg
GEO:39.9611761;-82.9874507
X-APPLE-STRUCTURED-LOCATION;VALUE=URI;X-ADDRESS=Topiary Park 480 E Town St Columbus OH 43215 United States;X-APPLE-RADIUS=500;X-TITLE=480 E Town St:geo:-82.9874507,39.9611761
END:VEVENT
BEGIN:VEVENT
DTSTART;TZID=America/New_York:20260927T130000
DTEND;TZID=America/New_York:20260927T150000
DTSTAMP:20260419T082836
CREATED:20260319T130938Z
LAST-MODIFIED:20260319T130938Z
UID:10013383-1790514000-1790521200@downtowncolumbus.com
SUMMARY:Art in the Park
DESCRIPTION:New this year! Learn a craft and enjoy a coffee every month at this brand-new series. The series will include crafts such as terrarium building\, painting\, suncatcher making\, etc.\, all in the scenic Topiary Park. More info to come!
URL:https://downtowncolumbus.com/event/art-in-the-park/2026-09-27/
LOCATION:Topiary Park\, 480 E Town St\, Columbus\, OH\, 43215\, United States
CATEGORIES:Arts & Culture
ATTACH;FMTTYPE=image/jpeg:https://downtowncolumbus.com/wp-content/uploads/2024/03/Robb-McCormick-Photography-11-of-109-scaled.jpg
GEO:39.9611761;-82.9874507
X-APPLE-STRUCTURED-LOCATION;VALUE=URI;X-ADDRESS=Topiary Park 480 E Town St Columbus OH 43215 United States;X-APPLE-RADIUS=500;X-TITLE=480 E Town St:geo:-82.9874507,39.9611761
END:VEVENT
END:VCALENDAR